BEGIN:VCALENDAR
VERSION:2.0
PRODID:-//UNIVERSITY OF TEXAS SCHOOL OF LAW//NONSGML Events Calendar v1.0//EN
X-WR-TIMEZONE:America/Chicago
BEGIN:VTIMEZONE
TZID:US/Central
X-LIC-LOCATION:America/Chicago
BEGIN:DAYLIGHT
TZOFFSETFROM:-0600
TZOFFSETTO:-0500
TZNAME:CDT
DTSTART:19700308T020000
RRULE:FREQ=YEARLY;BYMONTH=3;BYDAY=2SU
END:DAYLIGHT
BEGIN:STANDARD
TZOFFSETFROM:-0500
TZOFFSETTO:-0600
TZNAME:CST
DTSTART:19701101T020000
RRULE:FREQ=YEARLY;BYMONTH=11;BYDAY=1SU
END:STANDARD
END:VTIMEZONE
BEGIN:VEVENT
DTSTART;TZID=US/Central:20150212T114500
DTEND;VALUE=DATE-TIME;TZID=US/Central:20150212T130000

DTSTAMP:20260420T160300Z
CREATED:20140805T222200Z
LAST-MODIFIED:20150209T155300Z
UID:20150212T114500-19266@law.utexas.edu
SUMMARY:PDI: Law Firm Track
DESCRIPTION:<p>The Professional Development Institute: Prepared For Practice will be taught by industry experts and practicing attorneys, covering facets of new attorney professionalism most sought after by legal employers. It is promoted widely to employers, many of whom contributed to the content of this program. This program is open to all UT Law J.D. students. </p>
  <p><a href="https://www.utexas.edu/law/career/roads/pdi.html">Registration</a> opens on Tuesday, November 18, at 9:00 p.m. Space is limited!</p>
  <p>Law Firm Track will be held on Thursdays, January 22-February 26, 2015 from noon-1:00 p.m. in the Francis Auditorium. Lunch service will begin at 11:40 a.m. so the sessions may start promptly at noon. </p>
  <p>Public Service Track will be on Friday, February 20, 2015, from 1:00-5:00 p.m. in the Susman Academic Center. Lunch will be served.    
  </p>\n\nIf you need an accommodation to participate in this event, please contact the event sponsor or the Texas Law Special Events Office at specialevents@law.utexas.edu no later than seven business days prior to the event.
X-ALT-DESC;FMTTYPE=text/html:<p>The Professional Development Institute: Prepared For Practice will be taught by industry experts and practicing attorneys, covering facets of new attorney professionalism most sought after by legal employers. It is promoted widely to employers, many of whom contributed to the content of this program. This program is open to all UT Law J.D. students. </p>
  <p><a href="https://www.utexas.edu/law/career/roads/pdi.html">Registration</a> opens on Tuesday, November 18, at 9:00 p.m. Space is limited!</p>
  <p>Law Firm Track will be held on Thursdays, January 22-February 26, 2015 from noon-1:00 p.m. in the Francis Auditorium. Lunch service will begin at 11:40 a.m. so the sessions may start promptly at noon. </p>
  <p>Public Service Track will be on Friday, February 20, 2015, from 1:00-5:00 p.m. in the Susman Academic Center. Lunch will be served.    
  </p><p>If you need an accommodation to participate in this event, please contact the event
                                          event sponsor or the Texas Law Special Events Office at <a href="mailto:specialevents@law.utexas.edu">specialevents@law.utexas.edu</a> no later than seven business days prior to the event.</p>
CATEGORIES:Workshop / Training Program
LOCATION:TNH 2.114 - Francis Auditorium
URL:http://law.utexas.edu/calendar/2015/02/12/19266/
CLASS:PUBLIC
STATUS:CONFIRMED
COMMENT:Please contact Deb Freeman, Assistant Director for Communications in the CSO, at 512-232-2162 or <a href="mailto:dfreeman@law.utexas.edu">dfreeman@law.utexas.edu</a>.
END:VEVENT
END:VCALENDAR