BEGIN:VCALENDAR
VERSION:2.0
PRODID:-//UNIVERSITY OF TEXAS SCHOOL OF LAW//NONSGML Events Calendar v1.0//EN
X-WR-TIMEZONE:America/Chicago
BEGIN:VTIMEZONE
TZID:US/Central
X-LIC-LOCATION:America/Chicago
BEGIN:DAYLIGHT
TZOFFSETFROM:-0600
TZOFFSETTO:-0500
TZNAME:CDT
DTSTART:19700308T020000
RRULE:FREQ=YEARLY;BYMONTH=3;BYDAY=2SU
END:DAYLIGHT
BEGIN:STANDARD
TZOFFSETFROM:-0500
TZOFFSETTO:-0600
TZNAME:CST
DTSTART:19701101T020000
RRULE:FREQ=YEARLY;BYMONTH=11;BYDAY=1SU
END:STANDARD
END:VTIMEZONE
BEGIN:VEVENT
DTSTART;TZID=US/Central:20150212T120000
DTEND;VALUE=DATE-TIME;TZID=US/Central:20150212T130000

DTSTAMP:20260420T143300Z
CREATED:20141120T170300Z
LAST-MODIFIED:20150209T160000Z
UID:20150212T120000-19821@law.utexas.edu
SUMMARY:Paths in Indigent Defense Outside Texas
DESCRIPTION:<p>Learn about career paths in indigent defense in jurisdictions outside of Texas that have nationally recognized public defender programs. Attorneys who wish to build careers representing low-income people accused of criminal offenses often start their careers in public defender offices that offer structured training.</p>
  <p>Panelists will discuss their careers and the public defender programs for which they have worked, and offer advice on how to prepare for and obtain a job with a public defender office. Panelists include Ruth Rosenthal, ’10, Senior Associate with the Pew Charitable Trusts and former Trial Attorney with the <a href="http://pdweb.coloradodefenders.us/">Colorado State Public Defender</a>; Chris Roberts, Assistant Public Defender with the <a href="http://www.pdsdc.org/">Public Defender Service of D.C.</a>; and Trudy Strassburger, Deputy Director with the Capital Area Private Defender Service in Austin and former Team Lead Attorney with <a href="http://www.bronxdefenders.org/">The Bronx Defenders</a>. Moderated by <a href="http://www.utexas.edu/law/faculty/rds89/">Raoul Schonemann, Co-Director and Clinical Professor</a> of the Texas Law Capital Punishment Clinic.</p>
  <p>Lunch will be provided. Please RSVP by Wednesday, Feb. 11, on <a href="https://law-utexas-csm.symplicity.com/students/">Symplicity</a> by selecting the 'Events' tab.</p>
  <p><strong>Come Chat with a Public Defender Afterwards</strong>
  <strong>20-minute slots available from 1:20-3:00 p.m. in the Career Services Interview Suite
  </strong>If you are interested in indigent defense or have questions about criminal law practice generally, you can meet directly with Ruth Rosenthal, ’10, Senior Associate with the Pew Charitable Trusts and former Trial Attorney with the <a href="http://pdweb.coloradodefenders.us/">Colorado State Public Defender</a>, and Chris Roberts, Assistant Public Defender with the <a href="http://www.pdsdc.org/">Public Defender Service of D.C.</a> who will speak with students after the program.</p>
  <p>To sign up for a 20-minute time slot, please email your availability to Nicole Simmons at <a href="mailto:nsimmons@law.utexas.edu">nsimmons@law.utexas.edu</a>. Hurry while spaces are still available!</p>
  <p>Sponsored by the <a href="http://www.utexas.edu/law/career/">Career Services Office</a> and the <a href="http://www.utexas.edu/law/centers/publicinterest/">William Wayne Justice Center for Public Interest Law</a>.</p>\n\nIf you need an accommodation to participate in this event, please contact the event sponsor or the Texas Law Special Events Office at specialevents@law.utexas.edu no later than seven business days prior to the event.
X-ALT-DESC;FMTTYPE=text/html:<p>Learn about career paths in indigent defense in jurisdictions outside of Texas that have nationally recognized public defender programs. Attorneys who wish to build careers representing low-income people accused of criminal offenses often start their careers in public defender offices that offer structured training.</p>
  <p>Panelists will discuss their careers and the public defender programs for which they have worked, and offer advice on how to prepare for and obtain a job with a public defender office. Panelists include Ruth Rosenthal, ’10, Senior Associate with the Pew Charitable Trusts and former Trial Attorney with the <a href="http://pdweb.coloradodefenders.us/">Colorado State Public Defender</a>; Chris Roberts, Assistant Public Defender with the <a href="http://www.pdsdc.org/">Public Defender Service of D.C.</a>; and Trudy Strassburger, Deputy Director with the Capital Area Private Defender Service in Austin and former Team Lead Attorney with <a href="http://www.bronxdefenders.org/">The Bronx Defenders</a>. Moderated by <a href="http://www.utexas.edu/law/faculty/rds89/">Raoul Schonemann, Co-Director and Clinical Professor</a> of the Texas Law Capital Punishment Clinic.</p>
  <p>Lunch will be provided. Please RSVP by Wednesday, Feb. 11, on <a href="https://law-utexas-csm.symplicity.com/students/">Symplicity</a> by selecting the 'Events' tab.</p>
  <p><strong>Come Chat with a Public Defender Afterwards</strong>
  <strong>20-minute slots available from 1:20-3:00 p.m. in the Career Services Interview Suite
  </strong>If you are interested in indigent defense or have questions about criminal law practice generally, you can meet directly with Ruth Rosenthal, ’10, Senior Associate with the Pew Charitable Trusts and former Trial Attorney with the <a href="http://pdweb.coloradodefenders.us/">Colorado State Public Defender</a>, and Chris Roberts, Assistant Public Defender with the <a href="http://www.pdsdc.org/">Public Defender Service of D.C.</a> who will speak with students after the program.</p>
  <p>To sign up for a 20-minute time slot, please email your availability to Nicole Simmons at <a href="mailto:nsimmons@law.utexas.edu">nsimmons@law.utexas.edu</a>. Hurry while spaces are still available!</p>
  <p>Sponsored by the <a href="http://www.utexas.edu/law/career/">Career Services Office</a> and the <a href="http://www.utexas.edu/law/centers/publicinterest/">William Wayne Justice Center for Public Interest Law</a>.</p><p>If you need an accommodation to participate in this event, please contact the event
                                          event sponsor or the Texas Law Special Events Office at <a href="mailto:specialevents@law.utexas.edu">specialevents@law.utexas.edu</a> no later than seven business days prior to the event.</p>
CATEGORIES:Panel Discussion / Speaker Series
LOCATION:TNH 3.140 - Jeffers Courtroom
URL:http://law.utexas.edu/calendar/2015/02/12/19821/
CLASS:PUBLIC
STATUS:CONFIRMED
COMMENT:Please contact Nicole Simmons, Director of Public Service Programs in the CSO, at 512-232-2162 or <a href="mailto:nsimmons@law.utexas.edu">nsimmons@law.utexas.edu</a>.
END:VEVENT
END:VCALENDAR