BEGIN:VCALENDAR
VERSION:2.0
PRODID:-//UNIVERSITY OF TEXAS SCHOOL OF LAW//NONSGML Events Calendar v1.0//EN
X-WR-TIMEZONE:America/Chicago
BEGIN:VTIMEZONE
TZID:US/Central
X-LIC-LOCATION:America/Chicago
BEGIN:DAYLIGHT
TZOFFSETFROM:-0600
TZOFFSETTO:-0500
TZNAME:CDT
DTSTART:19700308T020000
RRULE:FREQ=YEARLY;BYMONTH=3;BYDAY=2SU
END:DAYLIGHT
BEGIN:STANDARD
TZOFFSETFROM:-0500
TZOFFSETTO:-0600
TZNAME:CST
DTSTART:19701101T020000
RRULE:FREQ=YEARLY;BYMONTH=11;BYDAY=1SU
END:STANDARD
END:VTIMEZONE
BEGIN:VEVENT
DTSTART;TZID=US/Central:20150224T120000
DTEND;VALUE=DATE-TIME;TZID=US/Central:20150224T124500

DTSTAMP:20260420T160300Z
CREATED:20150222T182700Z
LAST-MODIFIED:20150222T182700Z
UID:20150224T120000-20227@law.utexas.edu
SUMMARY:Practicing Law in the Music Industry
DESCRIPTION:<p>Law Students for the Arts would like to invite you to a presentation from Texas Accountants and Lawyers for the Arts on representing musicians and working in the music industry.  Attorneys from TALA will be on campus to talk about a variety of music-related topics, from representing producers to the key legal documents involved in recording an independent record.  The presentation will be on Tuesday, February 24th, at Noon in TNH 3.126. We apologize, but no lunch will be provided.  Hope to see you there!</p>\n\nIf you need an accommodation to participate in this event, please contact the event sponsor or the Texas Law Special Events Office at specialevents@law.utexas.edu no later than seven business days prior to the event.
X-ALT-DESC;FMTTYPE=text/html:<p>Law Students for the Arts would like to invite you to a presentation from Texas Accountants and Lawyers for the Arts on representing musicians and working in the music industry.  Attorneys from TALA will be on campus to talk about a variety of music-related topics, from representing producers to the key legal documents involved in recording an independent record.  The presentation will be on Tuesday, February 24th, at Noon in TNH 3.126. We apologize, but no lunch will be provided.  Hope to see you there!</p><p>If you need an accommodation to participate in this event, please contact the event
                                          event sponsor or the Texas Law Special Events Office at <a href="mailto:specialevents@law.utexas.edu">specialevents@law.utexas.edu</a> no later than seven business days prior to the event.</p>

LOCATION:TNH 3.126 - Ratliff Classroom
URL:http://law.utexas.edu/calendar/2015/02/24/20227/
CLASS:PUBLIC
STATUS:CONFIRMED

END:VEVENT
END:VCALENDAR