BEGIN:VCALENDAR
VERSION:2.0
PRODID:-//UNIVERSITY OF TEXAS SCHOOL OF LAW//NONSGML Events Calendar v1.0//EN
X-WR-TIMEZONE:America/Chicago
BEGIN:VTIMEZONE
TZID:US/Central
X-LIC-LOCATION:America/Chicago
BEGIN:DAYLIGHT
TZOFFSETFROM:-0600
TZOFFSETTO:-0500
TZNAME:CDT
DTSTART:19700308T020000
RRULE:FREQ=YEARLY;BYMONTH=3;BYDAY=2SU
END:DAYLIGHT
BEGIN:STANDARD
TZOFFSETFROM:-0500
TZOFFSETTO:-0600
TZNAME:CST
DTSTART:19701101T020000
RRULE:FREQ=YEARLY;BYMONTH=11;BYDAY=1SU
END:STANDARD
END:VTIMEZONE
BEGIN:VEVENT
DTSTART;TZID=US/Central:20150226T114500
DTEND;VALUE=DATE-TIME;TZID=US/Central:20150226T130000

DTSTAMP:20260420T160300Z
CREATED:20140716T182400Z
LAST-MODIFIED:20150218T175100Z
UID:20150226T114500-19170@law.utexas.edu
SUMMARY:PDI: Law Firm Track
DESCRIPTION:<p>The Professional Development Institute: Prepared For Practice will be taught by industry experts and practicing attorneys, covering facets of new attorney professionalism most sought after by legal employers. It is promoted widely to employers, many of whom contributed to the content of this program. This program is open to all UT Law J.D. students. Registration will be announced in November 2014. </p>
  <p>Law Firm Track will be held on Thursdays, January 22-February 26, 2015 from 11:50 a.m.-12:50 p.m. in the Francis Auditorium. Lunch will be served. </p>
  <p>Public Service Track will be on Friday, February 20, 2015, from noon-4:30 p.m. in the Susman Academic Center. Lunch will be served.    
  </p>\n\nIf you need an accommodation to participate in this event, please contact the event sponsor or the Texas Law Special Events Office at specialevents@law.utexas.edu no later than seven business days prior to the event.
X-ALT-DESC;FMTTYPE=text/html:<p>The Professional Development Institute: Prepared For Practice will be taught by industry experts and practicing attorneys, covering facets of new attorney professionalism most sought after by legal employers. It is promoted widely to employers, many of whom contributed to the content of this program. This program is open to all UT Law J.D. students. Registration will be announced in November 2014. </p>
  <p>Law Firm Track will be held on Thursdays, January 22-February 26, 2015 from 11:50 a.m.-12:50 p.m. in the Francis Auditorium. Lunch will be served. </p>
  <p>Public Service Track will be on Friday, February 20, 2015, from noon-4:30 p.m. in the Susman Academic Center. Lunch will be served.    
  </p><p>If you need an accommodation to participate in this event, please contact the event
                                          event sponsor or the Texas Law Special Events Office at <a href="mailto:specialevents@law.utexas.edu">specialevents@law.utexas.edu</a> no later than seven business days prior to the event.</p>
CATEGORIES:Workshop / Training Program
LOCATION:TNH 2.114 - Francis Auditorium
URL:http://law.utexas.edu/calendar/2015/02/26/19170/
CLASS:PUBLIC
STATUS:CONFIRMED
COMMENT:Please contact Deb Freeman, Assistant Director for Communications in the CSO, at 512-232-2162 or <a href="mailto:dfreeman@law.utexas.edu">dfreeman@law.utexas.edu</a>.
END:VEVENT
END:VCALENDAR