BEGIN:VCALENDAR
VERSION:2.0
PRODID:-//UNIVERSITY OF TEXAS SCHOOL OF LAW//NONSGML Events Calendar v1.0//EN
X-WR-TIMEZONE:America/Chicago
BEGIN:VTIMEZONE
TZID:US/Central
X-LIC-LOCATION:America/Chicago
BEGIN:DAYLIGHT
TZOFFSETFROM:-0600
TZOFFSETTO:-0500
TZNAME:CDT
DTSTART:19700308T020000
RRULE:FREQ=YEARLY;BYMONTH=3;BYDAY=2SU
END:DAYLIGHT
BEGIN:STANDARD
TZOFFSETFROM:-0500
TZOFFSETTO:-0600
TZNAME:CST
DTSTART:19701101T020000
RRULE:FREQ=YEARLY;BYMONTH=11;BYDAY=1SU
END:STANDARD
END:VTIMEZONE
BEGIN:VEVENT
DTSTART;TZID=US/Central:20150226T114500
DTEND;VALUE=DATE-TIME;TZID=US/Central:20150226T124500

DTSTAMP:20260420T132200Z
CREATED:20150105T184100Z
LAST-MODIFIED:20150222T192700Z
UID:20150226T114500-19973@law.utexas.edu
SUMMARY:Understanding Ag-Gag: Far
DESCRIPTION:<p>Please join the Student Animal Legal Defense Fund Chapter for a free vegan lunch and discussion on ag-gag laws in the U.S. Co-sponsored by the Environmental Law Society, the American Constitution Society, and CHLSA (Chicano/Hispanic Law Students Association)</p>
  <p>Guest Speakers include:</p>
  <p>William Rivas-Rivas from the Animal Legal Defense Fund, and 
  Daphne Silverman from the National Lawyers Guild.</p>
  <p>Ag-gag overview: Animal abuse, food safety violations, and illegal working conditions are rampant on factory farms. Undercover investigations have exposed egregious animal cruelty and shed light on common agricultural practices that cause significant animal suffering. </p>
  <p>Undercover investigations have resulted in criminal animal cruelty convictions, national meat recalls, plant closures, and civil lawsuits—all of which make undercover investigations and reporting an absolute necessity for protecting animals and public health and safety. Journalistic exposés of the meat industry have led to landmark food safety laws such as the Federal Meat Inspection Act and the Pure Food and Drug Act. These laws help protect the public from “mad cow” disease, E. coli, and salmonella.</p>\n\nIf you need an accommodation to participate in this event, please contact the event sponsor or the Texas Law Special Events Office at specialevents@law.utexas.edu no later than seven business days prior to the event.
X-ALT-DESC;FMTTYPE=text/html:<p>Please join the Student Animal Legal Defense Fund Chapter for a free vegan lunch and discussion on ag-gag laws in the U.S. Co-sponsored by the Environmental Law Society, the American Constitution Society, and CHLSA (Chicano/Hispanic Law Students Association)</p>
  <p>Guest Speakers include:</p>
  <p>William Rivas-Rivas from the Animal Legal Defense Fund, and 
  Daphne Silverman from the National Lawyers Guild.</p>
  <p>Ag-gag overview: Animal abuse, food safety violations, and illegal working conditions are rampant on factory farms. Undercover investigations have exposed egregious animal cruelty and shed light on common agricultural practices that cause significant animal suffering. </p>
  <p>Undercover investigations have resulted in criminal animal cruelty convictions, national meat recalls, plant closures, and civil lawsuits—all of which make undercover investigations and reporting an absolute necessity for protecting animals and public health and safety. Journalistic exposés of the meat industry have led to landmark food safety laws such as the Federal Meat Inspection Act and the Pure Food and Drug Act. These laws help protect the public from “mad cow” disease, E. coli, and salmonella.</p><p>If you need an accommodation to participate in this event, please contact the event
                                          event sponsor or the Texas Law Special Events Office at <a href="mailto:specialevents@law.utexas.edu">specialevents@law.utexas.edu</a> no later than seven business days prior to the event.</p>
CATEGORIES:Lunch
LOCATION:TNH 2.123 - Beck Classroom
URL:http://law.utexas.edu/calendar/2015/02/26/19973/
CLASS:PUBLIC
STATUS:CONFIRMED

END:VEVENT
END:VCALENDAR