BEGIN:VCALENDAR
VERSION:2.0
PRODID:-//UNIVERSITY OF TEXAS SCHOOL OF LAW//NONSGML Events Calendar v1.0//EN
X-WR-TIMEZONE:America/Chicago
BEGIN:VTIMEZONE
TZID:US/Central
X-LIC-LOCATION:America/Chicago
BEGIN:DAYLIGHT
TZOFFSETFROM:-0600
TZOFFSETTO:-0500
TZNAME:CDT
DTSTART:19700308T020000
RRULE:FREQ=YEARLY;BYMONTH=3;BYDAY=2SU
END:DAYLIGHT
BEGIN:STANDARD
TZOFFSETFROM:-0500
TZOFFSETTO:-0600
TZNAME:CST
DTSTART:19701101T020000
RRULE:FREQ=YEARLY;BYMONTH=11;BYDAY=1SU
END:STANDARD
END:VTIMEZONE
BEGIN:VEVENT
DTSTART;TZID=US/Central:20150226T173000
DTEND;VALUE=DATE-TIME;TZID=US/Central:20150226T193000

DTSTAMP:20260420T142300Z
CREATED:20150212T210700Z
LAST-MODIFIED:20150212T210700Z
UID:20150226T173000-20208@law.utexas.edu
SUMMARY:Happy Hour: Winston &amp; Strawn with TROL
DESCRIPTION:<p>Winston &amp; Strawn and The Review of Litigation invite all 1L students for drinks, appetizers, and conversation at Bar 96 on Thursday, February 26, from 5:30 p.m. – 7:30 p.m.  Winston attorneys will be available to answer any questions about the firm and the summer program, and editors from The Review of Litigation will be available to chat about the write-on and the journal. Bar 96 is located at 96 Rainey Street Austin, Texas 78701. Attire for the event is casual. To confirm attendance, please RSVP to Haley Hobbs at HHobbs@winston.com by Tuesday, February 24.</p>\n\nIf you need an accommodation to participate in this event, please contact the event sponsor or the Texas Law Special Events Office at specialevents@law.utexas.edu no later than seven business days prior to the event.
X-ALT-DESC;FMTTYPE=text/html:<p>Winston &amp; Strawn and The Review of Litigation invite all 1L students for drinks, appetizers, and conversation at Bar 96 on Thursday, February 26, from 5:30 p.m. – 7:30 p.m.  Winston attorneys will be available to answer any questions about the firm and the summer program, and editors from The Review of Litigation will be available to chat about the write-on and the journal. Bar 96 is located at 96 Rainey Street Austin, Texas 78701. Attire for the event is casual. To confirm attendance, please RSVP to Haley Hobbs at HHobbs@winston.com by Tuesday, February 24.</p><p>If you need an accommodation to participate in this event, please contact the event
                                          event sponsor or the Texas Law Special Events Office at <a href="mailto:specialevents@law.utexas.edu">specialevents@law.utexas.edu</a> no later than seven business days prior to the event.</p>
CATEGORIES:Reception
LOCATION:96 Rainey Street Austin, Texas 78701
URL:http://law.utexas.edu/calendar/2015/02/26/20208/
CLASS:PUBLIC
STATUS:CONFIRMED
COMMENT:Contact Haley Hobbs HHobbs@winston.com
END:VEVENT
END:VCALENDAR