BEGIN:VCALENDAR
VERSION:2.0
PRODID:-//UNIVERSITY OF TEXAS SCHOOL OF LAW//NONSGML Events Calendar v1.0//EN
X-WR-TIMEZONE:America/Chicago
BEGIN:VTIMEZONE
TZID:US/Central
X-LIC-LOCATION:America/Chicago
BEGIN:DAYLIGHT
TZOFFSETFROM:-0600
TZOFFSETTO:-0500
TZNAME:CDT
DTSTART:19700308T020000
RRULE:FREQ=YEARLY;BYMONTH=3;BYDAY=2SU
END:DAYLIGHT
BEGIN:STANDARD
TZOFFSETFROM:-0500
TZOFFSETTO:-0600
TZNAME:CST
DTSTART:19701101T020000
RRULE:FREQ=YEARLY;BYMONTH=11;BYDAY=1SU
END:STANDARD
END:VTIMEZONE
BEGIN:VEVENT
DTSTART;TZID=US/Central:20150226T120000
DTEND;VALUE=DATE-TIME;TZID=US/Central:20150226T130000

DTSTAMP:20260420T160300Z
CREATED:20150224T183000Z
LAST-MODIFIED:20150224T183000Z
UID:20150226T120000-20236@law.utexas.edu
SUMMARY:International Human Rights Careers
DESCRIPTION:<p>
  The Human Rights Law Society and Rapoport Center for Human Rights and Social Justice invite you to attend a discussion on international human rights careers. This event is ideal for students interested in international law, human rights, diplomacy, social justice, public service, or simply FREE LUNCH. </p>
  <p>Our goal is to provide students with a greater understanding of how to most effectively utilize the resources available at Texas Law to pursue careers in international human rights law. We'll address topics including summer internships, funding summer internships, long term careers, and the most helpful resources available at UT. </p>
  <p>Speakers include: </p>
  <p>Tex Harris: Harris is a UT Law graduate (Class of 1965) and regarded by many as a “diplomat’s diplomat.” Harris served with distinction during a 35-year Foreign Service career. Beginning in 1965, his posts were varied and often dangerous, such as Venezuela just as a Fidel Castro-supported insurgency was breaking out, Argentina at the height of the “dirty war” and South Africa in the 1980s during the transition from apartheid. Harris also served in Australia and as an associate administrator of the Environmental Protection Agency. He earned the Distinguished Honor Award, the State Department’s highest, for his work in Argentina in the late 1970s exposing the fate of the 15,000 citizens clandestinely killed by the military junta. Harris also served in the Bureau of Economic Affairs, as an attorney for the White House, and between 1974 and 1977 as an environmental assistant who drafted the first international call for controlling the release of chlorofluorocarbons (CFCs) to protect atmospheric ozone. Consistently a courageous advocate of the professional interests of FSOs, in 1970 he joined Tom Boyatt in leading the transformation of the American Foreign Service Association (AFSA) into a strong advocate of employee interests. Serving twice as AFSA president, Harris became known to his colleagues as “Mr. AFSA.” Following his retirement in 1999, he continued his close involvement with that organization and in 2000 he established the “Tex Harris Award” for creative dissent by a Foreign Service specialist.</p>
  <p>UT Law Professor Derek P. Jinks: Professor Jinks teaches and writes in the fields of public international law, international humanitarian law, human rights law, and criminal law. Prior to teaching, Professor Jinks worked in the Prosecutor's Office of the International Criminal Tribunal for the Former Yugoslavia and served as Senior Legal Advisor and United Nations Representative for the South Asia Human Rights Documentation Centre in India.</p>
  <p>UT Law 2Ls and 3Ls: Several students that have obtained funding for and completed international human rights oriented internships will share some tricks of the trade! </p>\n\nIf you need an accommodation to participate in this event, please contact the event sponsor or the Texas Law Special Events Office at specialevents@law.utexas.edu no later than seven business days prior to the event.
X-ALT-DESC;FMTTYPE=text/html:<p>
  The Human Rights Law Society and Rapoport Center for Human Rights and Social Justice invite you to attend a discussion on international human rights careers. This event is ideal for students interested in international law, human rights, diplomacy, social justice, public service, or simply FREE LUNCH. </p>
  <p>Our goal is to provide students with a greater understanding of how to most effectively utilize the resources available at Texas Law to pursue careers in international human rights law. We'll address topics including summer internships, funding summer internships, long term careers, and the most helpful resources available at UT. </p>
  <p>Speakers include: </p>
  <p>Tex Harris: Harris is a UT Law graduate (Class of 1965) and regarded by many as a “diplomat’s diplomat.” Harris served with distinction during a 35-year Foreign Service career. Beginning in 1965, his posts were varied and often dangerous, such as Venezuela just as a Fidel Castro-supported insurgency was breaking out, Argentina at the height of the “dirty war” and South Africa in the 1980s during the transition from apartheid. Harris also served in Australia and as an associate administrator of the Environmental Protection Agency. He earned the Distinguished Honor Award, the State Department’s highest, for his work in Argentina in the late 1970s exposing the fate of the 15,000 citizens clandestinely killed by the military junta. Harris also served in the Bureau of Economic Affairs, as an attorney for the White House, and between 1974 and 1977 as an environmental assistant who drafted the first international call for controlling the release of chlorofluorocarbons (CFCs) to protect atmospheric ozone. Consistently a courageous advocate of the professional interests of FSOs, in 1970 he joined Tom Boyatt in leading the transformation of the American Foreign Service Association (AFSA) into a strong advocate of employee interests. Serving twice as AFSA president, Harris became known to his colleagues as “Mr. AFSA.” Following his retirement in 1999, he continued his close involvement with that organization and in 2000 he established the “Tex Harris Award” for creative dissent by a Foreign Service specialist.</p>
  <p>UT Law Professor Derek P. Jinks: Professor Jinks teaches and writes in the fields of public international law, international humanitarian law, human rights law, and criminal law. Prior to teaching, Professor Jinks worked in the Prosecutor's Office of the International Criminal Tribunal for the Former Yugoslavia and served as Senior Legal Advisor and United Nations Representative for the South Asia Human Rights Documentation Centre in India.</p>
  <p>UT Law 2Ls and 3Ls: Several students that have obtained funding for and completed international human rights oriented internships will share some tricks of the trade! </p><p>If you need an accommodation to participate in this event, please contact the event
                                          event sponsor or the Texas Law Special Events Office at <a href="mailto:specialevents@law.utexas.edu">specialevents@law.utexas.edu</a> no later than seven business days prior to the event.</p>
CATEGORIES:Lunch
LOCATION:TNH 2.138 - Blanton Classroom
URL:http://law.utexas.edu/calendar/2015/02/26/20236/
CLASS:PUBLIC
STATUS:CONFIRMED

END:VEVENT
END:VCALENDAR