BEGIN:VCALENDAR
VERSION:2.0
PRODID:-//UNIVERSITY OF TEXAS SCHOOL OF LAW//NONSGML Events Calendar v1.0//EN
X-WR-TIMEZONE:America/Chicago
BEGIN:VTIMEZONE
TZID:US/Central
X-LIC-LOCATION:America/Chicago
BEGIN:DAYLIGHT
TZOFFSETFROM:-0600
TZOFFSETTO:-0500
TZNAME:CDT
DTSTART:19700308T020000
RRULE:FREQ=YEARLY;BYMONTH=3;BYDAY=2SU
END:DAYLIGHT
BEGIN:STANDARD
TZOFFSETFROM:-0500
TZOFFSETTO:-0600
TZNAME:CST
DTSTART:19701101T020000
RRULE:FREQ=YEARLY;BYMONTH=11;BYDAY=1SU
END:STANDARD
END:VTIMEZONE
BEGIN:VEVENT
DTSTART;TZID=US/Central:20150309
DTEND;TZID=US/Central:20150310
X-MICROSOFT-CDO-ALLDAYEVENT:TRUE
X-FUNAMBOL-ALLDAY:TRUE
DTSTAMP:20260422T113400Z
CREATED:20150306T153100Z
LAST-MODIFIED:20150306T153100Z
UID:20150309T000000-20274@law.utexas.edu
SUMMARY:TLF Application Opens
DESCRIPTION:<p>The Texas Law Fellowships (TLF) application will be available beginning Monday March 9th at texaslawfellowships.org.</p>
  <p>TLF funds Texas Law students who complete 400 hours of unpaid work in the public interest at qualifying organizations during the summer.  </p>
  <p>Information Sessions about the application process will be held at the following times:
  March 10th, 12pm-1pm, TNH 2.140
  March 12th, 12pm-1pm, TNH 2.140
  March 24th, 12pm-1pm, TNH 2.139</p>\n\nIf you need an accommodation to participate in this event, please contact the event sponsor or the Texas Law Special Events Office at specialevents@law.utexas.edu no later than seven business days prior to the event.
X-ALT-DESC;FMTTYPE=text/html:<p>The Texas Law Fellowships (TLF) application will be available beginning Monday March 9th at texaslawfellowships.org.</p>
  <p>TLF funds Texas Law students who complete 400 hours of unpaid work in the public interest at qualifying organizations during the summer.  </p>
  <p>Information Sessions about the application process will be held at the following times:
  March 10th, 12pm-1pm, TNH 2.140
  March 12th, 12pm-1pm, TNH 2.140
  March 24th, 12pm-1pm, TNH 2.139</p><p>If you need an accommodation to participate in this event, please contact the event
                                          event sponsor or the Texas Law Special Events Office at <a href="mailto:specialevents@law.utexas.edu">specialevents@law.utexas.edu</a> no later than seven business days prior to the event.</p>


URL:http://law.utexas.edu/calendar/2015/03/09/20274/
CLASS:PUBLIC
STATUS:CONFIRMED

END:VEVENT
END:VCALENDAR