BEGIN:VCALENDAR
VERSION:2.0
PRODID:-//UNIVERSITY OF TEXAS SCHOOL OF LAW//NONSGML Events Calendar v1.0//EN
X-WR-TIMEZONE:America/Chicago
BEGIN:VTIMEZONE
TZID:US/Central
X-LIC-LOCATION:America/Chicago
BEGIN:DAYLIGHT
TZOFFSETFROM:-0600
TZOFFSETTO:-0500
TZNAME:CDT
DTSTART:19700308T020000
RRULE:FREQ=YEARLY;BYMONTH=3;BYDAY=2SU
END:DAYLIGHT
BEGIN:STANDARD
TZOFFSETFROM:-0500
TZOFFSETTO:-0600
TZNAME:CST
DTSTART:19701101T020000
RRULE:FREQ=YEARLY;BYMONTH=11;BYDAY=1SU
END:STANDARD
END:VTIMEZONE
BEGIN:VEVENT
DTSTART;TZID=US/Central:20150310T120000
DTEND;VALUE=DATE-TIME;TZID=US/Central:20150310T143000

DTSTAMP:20260422T161800Z
CREATED:20150209T001000Z
LAST-MODIFIED:20150209T001000Z
UID:20150310T120000-20188@law.utexas.edu
SUMMARY:SoCo Lunch: Chicken &amp; Waffles Fundraiser
DESCRIPTION:<p>Thurgood Marshall Legal Society presents Southern Comfort: Chicken &amp; Waffles Fundraiser. On Tuesday March 10th, TMLS will be in the Susman Godfrey Atrium selling southern style breakfast from 12:00 pm – 2:30pm. This semester, TMLS is offering a choice of Chicken with Belgian Waffles for $7 per plate and Chicken and Blueberry or Apple Streusel Waffles for $8 per plate. Vegetarians are welcome as well as we are offering Belgian Waffles for $4 per plate or a Blueberry or Apple Streusel Waffle for $5 per plate. Every menu option comes with free waffle toppings like strawberries, cool whip, maple syrup, chocolate syrup, butter, and Nutella. Don’t miss out! Come out on Tuesday for your SoCo lunch!</p>\n\nIf you need an accommodation to participate in this event, please contact the event sponsor or the Texas Law Special Events Office at specialevents@law.utexas.edu no later than seven business days prior to the event.
X-ALT-DESC;FMTTYPE=text/html:<p>Thurgood Marshall Legal Society presents Southern Comfort: Chicken &amp; Waffles Fundraiser. On Tuesday March 10th, TMLS will be in the Susman Godfrey Atrium selling southern style breakfast from 12:00 pm – 2:30pm. This semester, TMLS is offering a choice of Chicken with Belgian Waffles for $7 per plate and Chicken and Blueberry or Apple Streusel Waffles for $8 per plate. Vegetarians are welcome as well as we are offering Belgian Waffles for $4 per plate or a Blueberry or Apple Streusel Waffle for $5 per plate. Every menu option comes with free waffle toppings like strawberries, cool whip, maple syrup, chocolate syrup, butter, and Nutella. Don’t miss out! Come out on Tuesday for your SoCo lunch!</p><p>If you need an accommodation to participate in this event, please contact the event
                                          event sponsor or the Texas Law Special Events Office at <a href="mailto:specialevents@law.utexas.edu">specialevents@law.utexas.edu</a> no later than seven business days prior to the event.</p>
CATEGORIES:Lunch
LOCATION:TNH 2.100 - Susman Godfrey Atrium
URL:http://law.utexas.edu/calendar/2015/03/10/20188/
CLASS:PUBLIC
STATUS:CONFIRMED
COMMENT:Ty'Meka Reeves at tmlspresident@gmail.com
END:VEVENT
END:VCALENDAR