BEGIN:VCALENDAR
VERSION:2.0
PRODID:-//UNIVERSITY OF TEXAS SCHOOL OF LAW//NONSGML Events Calendar v1.0//EN
X-WR-TIMEZONE:America/Chicago
BEGIN:VTIMEZONE
TZID:US/Central
X-LIC-LOCATION:America/Chicago
BEGIN:DAYLIGHT
TZOFFSETFROM:-0600
TZOFFSETTO:-0500
TZNAME:CDT
DTSTART:19700308T020000
RRULE:FREQ=YEARLY;BYMONTH=3;BYDAY=2SU
END:DAYLIGHT
BEGIN:STANDARD
TZOFFSETFROM:-0500
TZOFFSETTO:-0600
TZNAME:CST
DTSTART:19701101T020000
RRULE:FREQ=YEARLY;BYMONTH=11;BYDAY=1SU
END:STANDARD
END:VTIMEZONE
BEGIN:VEVENT
DTSTART;TZID=US/Central:20150310T114500
DTEND;VALUE=DATE-TIME;TZID=US/Central:20150310T124500

DTSTAMP:20260422T113400Z
CREATED:20150209T181600Z
LAST-MODIFIED:20150306T184500Z
UID:20150310T114500-20191@law.utexas.edu
SUMMARY:How To Succeed in Your Summer Clerkship
DESCRIPTION:<p><a href="http://www.utexas.edu/law/faculty/jn22758/">Joe Noel</a>, Reference Librarian and Lecturer with the Tarlton Law Library will talk about legal research strategies for summer clerkship assignments. He’ll discuss how to familiarize yourself with your firm's research environment, what questions to ask when you receive an assignment, and best practices for deciding where to start your research.</p>
  <p>Lunch will be served. Please RSVP by Monday, March 9, on <a href="https://law-utexas-csm.symplicity.com/students/">Symplicity</a> by selecting the 'Events' tab.</p>\n\nIf you need an accommodation to participate in this event, please contact the event sponsor or the Texas Law Special Events Office at specialevents@law.utexas.edu no later than seven business days prior to the event.
X-ALT-DESC;FMTTYPE=text/html:<p><a href="http://www.utexas.edu/law/faculty/jn22758/">Joe Noel</a>, Reference Librarian and Lecturer with the Tarlton Law Library will talk about legal research strategies for summer clerkship assignments. He’ll discuss how to familiarize yourself with your firm's research environment, what questions to ask when you receive an assignment, and best practices for deciding where to start your research.</p>
  <p>Lunch will be served. Please RSVP by Monday, March 9, on <a href="https://law-utexas-csm.symplicity.com/students/">Symplicity</a> by selecting the 'Events' tab.</p><p>If you need an accommodation to participate in this event, please contact the event
                                          event sponsor or the Texas Law Special Events Office at <a href="mailto:specialevents@law.utexas.edu">specialevents@law.utexas.edu</a> no later than seven business days prior to the event.</p>
CATEGORIES:Panel Discussion / Speaker Series
LOCATION:TNH 2.138 - Blanton Classroom
URL:http://law.utexas.edu/calendar/2015/03/10/20191/
CLASS:PUBLIC
STATUS:CONFIRMED
COMMENT:Please contact Angelica Salinas Evans, Associate Director for Career Services, at 512-232-1159 or <a href="mailto:aevans@law.utexas.edu">aevans@law.utexas.edu</a>.
END:VEVENT
END:VCALENDAR