BEGIN:VCALENDAR
VERSION:2.0
PRODID:-//UNIVERSITY OF TEXAS SCHOOL OF LAW//NONSGML Events Calendar v1.0//EN
X-WR-TIMEZONE:America/Chicago
BEGIN:VTIMEZONE
TZID:US/Central
X-LIC-LOCATION:America/Chicago
BEGIN:DAYLIGHT
TZOFFSETFROM:-0600
TZOFFSETTO:-0500
TZNAME:CDT
DTSTART:19700308T020000
RRULE:FREQ=YEARLY;BYMONTH=3;BYDAY=2SU
END:DAYLIGHT
BEGIN:STANDARD
TZOFFSETFROM:-0500
TZOFFSETTO:-0600
TZNAME:CST
DTSTART:19701101T020000
RRULE:FREQ=YEARLY;BYMONTH=11;BYDAY=1SU
END:STANDARD
END:VTIMEZONE
BEGIN:VEVENT
DTSTART;TZID=US/Central:20150310T210000


DTSTAMP:20260422T174100Z
CREATED:20150226T200100Z
LAST-MODIFIED:20150226T204700Z
UID:20150310T210000-20256@law.utexas.edu
SUMMARY:1L Etiquette Dinner Sign Up
DESCRIPTION:<p><strong>Space is limited to the first 75 1Ls! 1L sign-up is on a first-come, first-served basis starting at 9:00 p.m. on TUESDAY, MARCH 10, on <a href="https://law-utexas-csm.symplicity.com/students/">Symplicity</a>.</strong></p>
  <p>Learn the finer points of business dining and protocol over a three-course seated dinner presented by Mary Crane (<a href="http://www.marycrane.com">www.marycrane.com</a>). Guests will receive a copy of her latest book, <em><a href="http://www.marycrane.com/books">100 Things You Need to Know: Business Etiquette: For Students and New Professionals</a>. </em>The dinner and book giveaway are generously sponsored by Locke Lord LLP, who will be hosting a cocktail reception for registered attendees prior to dinner from 6:15-7:00 p.m. All guests should be seated for dinner by 7:00 p.m. Dress is <a href="http://www.marycrane.com/things_you_need_to_know/view/Never-Too-Casual-2008-09-17">business casual</a>.</p>\n\nIf you need an accommodation to participate in this event, please contact the event sponsor or the Texas Law Special Events Office at specialevents@law.utexas.edu no later than seven business days prior to the event.
X-ALT-DESC;FMTTYPE=text/html:<p><strong>Space is limited to the first 75 1Ls! 1L sign-up is on a first-come, first-served basis starting at 9:00 p.m. on TUESDAY, MARCH 10, on <a href="https://law-utexas-csm.symplicity.com/students/">Symplicity</a>.</strong></p>
  <p>Learn the finer points of business dining and protocol over a three-course seated dinner presented by Mary Crane (<a href="http://www.marycrane.com">www.marycrane.com</a>). Guests will receive a copy of her latest book, <em><a href="http://www.marycrane.com/books">100 Things You Need to Know: Business Etiquette: For Students and New Professionals</a>. </em>The dinner and book giveaway are generously sponsored by Locke Lord LLP, who will be hosting a cocktail reception for registered attendees prior to dinner from 6:15-7:00 p.m. All guests should be seated for dinner by 7:00 p.m. Dress is <a href="http://www.marycrane.com/things_you_need_to_know/view/Never-Too-Casual-2008-09-17">business casual</a>.</p><p>If you need an accommodation to participate in this event, please contact the event
                                          event sponsor or the Texas Law Special Events Office at <a href="mailto:specialevents@law.utexas.edu">specialevents@law.utexas.edu</a> no later than seven business days prior to the event.</p>
CATEGORIES:Workshop / Training Program

URL:http://law.utexas.edu/calendar/2015/03/10/20256/
CLASS:PUBLIC
STATUS:CONFIRMED
COMMENT:Please contact Angelica Salinas Evans, Associate Director for Career Services, at 512-232-1159 or <a href="mailto:aevans@law.utexas.edu">aevans@law.utexas.edu</a>.
END:VEVENT
END:VCALENDAR