BEGIN:VCALENDAR
VERSION:2.0
PRODID:-//UNIVERSITY OF TEXAS SCHOOL OF LAW//NONSGML Events Calendar v1.0//EN
X-WR-TIMEZONE:America/Chicago
BEGIN:VTIMEZONE
TZID:US/Central
X-LIC-LOCATION:America/Chicago
BEGIN:DAYLIGHT
TZOFFSETFROM:-0600
TZOFFSETTO:-0500
TZNAME:CDT
DTSTART:19700308T020000
RRULE:FREQ=YEARLY;BYMONTH=3;BYDAY=2SU
END:DAYLIGHT
BEGIN:STANDARD
TZOFFSETFROM:-0500
TZOFFSETTO:-0600
TZNAME:CST
DTSTART:19701101T020000
RRULE:FREQ=YEARLY;BYMONTH=11;BYDAY=1SU
END:STANDARD
END:VTIMEZONE
BEGIN:VEVENT
DTSTART;TZID=US/Central:20150310T120000
DTEND;VALUE=DATE-TIME;TZID=US/Central:20150310T130000

DTSTAMP:20260422T203700Z
CREATED:20150306T153300Z
LAST-MODIFIED:20150306T153300Z
UID:20150310T120000-20275@law.utexas.edu
SUMMARY:TLF Application Info Session
DESCRIPTION:<p>The TLF application is available beginning March 9th at texaslawfellowships.org. 
  TLF will host three information sessions throughout the application period to provide guidelines for applicants and to answer any questions about the applications.</p>
  <p>Information Sessions:
  March 10th, 12pm-1pm, TNH 2.140
  March 12th, 12pm-1pm, TNH 2.140
  March 24th, 12pm-1pm, TNH 2.139</p>\n\nIf you need an accommodation to participate in this event, please contact the event sponsor or the Texas Law Special Events Office at specialevents@law.utexas.edu no later than seven business days prior to the event.
X-ALT-DESC;FMTTYPE=text/html:<p>The TLF application is available beginning March 9th at texaslawfellowships.org. 
  TLF will host three information sessions throughout the application period to provide guidelines for applicants and to answer any questions about the applications.</p>
  <p>Information Sessions:
  March 10th, 12pm-1pm, TNH 2.140
  March 12th, 12pm-1pm, TNH 2.140
  March 24th, 12pm-1pm, TNH 2.139</p><p>If you need an accommodation to participate in this event, please contact the event
                                          event sponsor or the Texas Law Special Events Office at <a href="mailto:specialevents@law.utexas.edu">specialevents@law.utexas.edu</a> no later than seven business days prior to the event.</p>

LOCATION:TNH 2.140 - Wright Classroom
URL:http://law.utexas.edu/calendar/2015/03/10/20275/
CLASS:PUBLIC
STATUS:CONFIRMED

END:VEVENT
END:VCALENDAR