BEGIN:VCALENDAR
VERSION:2.0
PRODID:-//UNIVERSITY OF TEXAS SCHOOL OF LAW//NONSGML Events Calendar v1.0//EN
X-WR-TIMEZONE:America/Chicago
BEGIN:VTIMEZONE
TZID:US/Central
X-LIC-LOCATION:America/Chicago
BEGIN:DAYLIGHT
TZOFFSETFROM:-0600
TZOFFSETTO:-0500
TZNAME:CDT
DTSTART:19700308T020000
RRULE:FREQ=YEARLY;BYMONTH=3;BYDAY=2SU
END:DAYLIGHT
BEGIN:STANDARD
TZOFFSETFROM:-0500
TZOFFSETTO:-0600
TZNAME:CST
DTSTART:19701101T020000
RRULE:FREQ=YEARLY;BYMONTH=11;BYDAY=1SU
END:STANDARD
END:VTIMEZONE
BEGIN:VEVENT
DTSTART;TZID=US/Central:20150311T100000
DTEND;VALUE=DATE-TIME;TZID=US/Central:20150311T130000

DTSTAMP:20260422T174100Z
CREATED:20150304T190500Z
LAST-MODIFIED:20150304T190500Z
UID:20150311T100000-20270@law.utexas.edu
SUMMARY:TELJ Spring Write-on
DESCRIPTION:<p>1Ls and 2Ls have an opportunity to talk to TELJ members and get materials to apply for membership to Texas Environmental Law Journal prior to Summer Write-on. For an electronic copy of our application form and instructions, please visit our website: <a href="http://www.telj.org/join.html.">http://www.telj.org/join.html.</a> </p>\n\nIf you need an accommodation to participate in this event, please contact the event sponsor or the Texas Law Special Events Office at specialevents@law.utexas.edu no later than seven business days prior to the event.
X-ALT-DESC;FMTTYPE=text/html:<p>1Ls and 2Ls have an opportunity to talk to TELJ members and get materials to apply for membership to Texas Environmental Law Journal prior to Summer Write-on. For an electronic copy of our application form and instructions, please visit our website: <a href="http://www.telj.org/join.html.">http://www.telj.org/join.html.</a> </p><p>If you need an accommodation to participate in this event, please contact the event
                                          event sponsor or the Texas Law Special Events Office at <a href="mailto:specialevents@law.utexas.edu">specialevents@law.utexas.edu</a> no later than seven business days prior to the event.</p>
CATEGORIES:Other
LOCATION:TNH 2.100 - Susman Godfrey Atrium
URL:http://law.utexas.edu/calendar/2015/03/11/20270/
CLASS:PUBLIC
STATUS:CONFIRMED

END:VEVENT
END:VCALENDAR