BEGIN:VCALENDAR
VERSION:2.0
PRODID:-//UNIVERSITY OF TEXAS SCHOOL OF LAW//NONSGML Events Calendar v1.0//EN
X-WR-TIMEZONE:America/Chicago
BEGIN:VTIMEZONE
TZID:US/Central
X-LIC-LOCATION:America/Chicago
BEGIN:DAYLIGHT
TZOFFSETFROM:-0600
TZOFFSETTO:-0500
TZNAME:CDT
DTSTART:19700308T020000
RRULE:FREQ=YEARLY;BYMONTH=3;BYDAY=2SU
END:DAYLIGHT
BEGIN:STANDARD
TZOFFSETFROM:-0500
TZOFFSETTO:-0600
TZNAME:CST
DTSTART:19701101T020000
RRULE:FREQ=YEARLY;BYMONTH=11;BYDAY=1SU
END:STANDARD
END:VTIMEZONE
BEGIN:VEVENT
DTSTART;TZID=US/Central:20150312T170000
DTEND;VALUE=DATE-TIME;TZID=US/Central:20150312T190000

DTSTAMP:20260422T144800Z
CREATED:20150113T174200Z
LAST-MODIFIED:20150302T165400Z
UID:20150312T170000-19997@law.utexas.edu
SUMMARY:“The Armenian Genocide and Modernity"
DESCRIPTION:<p>Please join us for the next event in the Rapoport Center's Human Rights Happy Hour Speaker Series. The event will feature Peter Balakian (Colgate University), who will speak on "The Armenian Genocide and Modernity." The event is co-sponsored by the Department of History and the Institute for Historical Studies.</p>\n\nIf you need an accommodation to participate in this event, please contact the event sponsor or the Texas Law Special Events Office at specialevents@law.utexas.edu no later than seven business days prior to the event. Speaker: Peter Balakian, D, Colgate University
X-ALT-DESC;FMTTYPE=text/html:<p>Please join us for the next event in the Rapoport Center's Human Rights Happy Hour Speaker Series. The event will feature Peter Balakian (Colgate University), who will speak on "The Armenian Genocide and Modernity." The event is co-sponsored by the Department of History and the Institute for Historical Studies.</p><p>If you need an accommodation to participate in this event, please contact the event
                                          event sponsor or the Texas Law Special Events Office at <a href="mailto:specialevents@law.utexas.edu">specialevents@law.utexas.edu</a> no later than seven business days prior to the event.</p> Speaker: Peter Balakian, D, Colgate University

LOCATION:CCJ 2.306 - Eidman Courtroom
URL:http://law.utexas.edu/calendar/2015/03/12/19997/
CLASS:PUBLIC
STATUS:CONFIRMED

END:VEVENT
END:VCALENDAR