BEGIN:VCALENDAR
VERSION:2.0
PRODID:-//UNIVERSITY OF TEXAS SCHOOL OF LAW//NONSGML Events Calendar v1.0//EN
X-WR-TIMEZONE:America/Chicago
BEGIN:VTIMEZONE
TZID:US/Central
X-LIC-LOCATION:America/Chicago
BEGIN:DAYLIGHT
TZOFFSETFROM:-0600
TZOFFSETTO:-0500
TZNAME:CDT
DTSTART:19700308T020000
RRULE:FREQ=YEARLY;BYMONTH=3;BYDAY=2SU
END:DAYLIGHT
BEGIN:STANDARD
TZOFFSETFROM:-0500
TZOFFSETTO:-0600
TZNAME:CST
DTSTART:19701101T020000
RRULE:FREQ=YEARLY;BYMONTH=11;BYDAY=1SU
END:STANDARD
END:VTIMEZONE
BEGIN:VEVENT
DTSTART;TZID=US/Central:20150312T114500
DTEND;VALUE=DATE-TIME;TZID=US/Central:20150312T124500

DTSTAMP:20260422T190600Z
CREATED:20150203T222300Z
LAST-MODIFIED:20150311T190300Z
UID:20150312T114500-20178@law.utexas.edu
SUMMARY:Careers in International Law
DESCRIPTION:<p><a href="http://ilstexas.org">The State Bar of Texas International Law Section</a> and the Career Services Office present an informal talk by lawyers who practice international law. Come learn the different paths each of the participants took out of law school to become international lawyers. Learn about what their practice is like (big firm, in-house, business and boutique) and learn the pros and cons of practicing international law. The presentation will be informal with ample opportunity for questions and to meet the participants. If you are interested in international law, don’t miss this presentation!</p>
  <p>Panelists include Karla Pascarella, General Counsel, <a href="http://www.isoluxcorsan.com/en/">Isolux Corsan, LLC</a>, who practices international project development, corporate law and business transactions; Luemara Wagner, '06, Partner, <a href="http://www.hunterwagnerlaw.com/">Hunter Wagner PLLC</a> (Austin), who practices international family law; <a href="http://www.andrewskurth.com/people-LydiaGonzalezGromatzky.html">Lydia Gonzalez Gromatzky, '86, </a> Of Counsel, Andrews Kurth LLP (Austin), who practices international environmental law; <a href="http://www.awrlloyd.com/principals/name/lilly-teng/">Lilly Teng</a><strong>,</strong> Senior Partner, Americas, AWR LLoyd (San Antonio), who is an M&amp;A advisor for Asian and American clients; <a href="http://www.andrewskurth.com/people-LisaMShelton.html">Lisa Shelton</a><strong>,</strong> Partner, Andrews Kurth LLP (Austin), who practices international environmental law; and <a href="http://www.adamsandreese.com/derek-jose-anchondo/">Derek Anchondo</a>, Partner, Adams and Reese LLP (Houston), who practices international oil and gas law.</p>
  <p>Lunch will be provided. Please RSVP by Wednesday, March 11, on <a href="https://law-utexas-csm.symplicity.com/students/">Symplicity</a> by selecting the 'Events' tab.</p>\n\nIf you need an accommodation to participate in this event, please contact the event sponsor or the Texas Law Special Events Office at specialevents@law.utexas.edu no later than seven business days prior to the event.
X-ALT-DESC;FMTTYPE=text/html:<p><a href="http://ilstexas.org">The State Bar of Texas International Law Section</a> and the Career Services Office present an informal talk by lawyers who practice international law. Come learn the different paths each of the participants took out of law school to become international lawyers. Learn about what their practice is like (big firm, in-house, business and boutique) and learn the pros and cons of practicing international law. The presentation will be informal with ample opportunity for questions and to meet the participants. If you are interested in international law, don’t miss this presentation!</p>
  <p>Panelists include Karla Pascarella, General Counsel, <a href="http://www.isoluxcorsan.com/en/">Isolux Corsan, LLC</a>, who practices international project development, corporate law and business transactions; Luemara Wagner, '06, Partner, <a href="http://www.hunterwagnerlaw.com/">Hunter Wagner PLLC</a> (Austin), who practices international family law; <a href="http://www.andrewskurth.com/people-LydiaGonzalezGromatzky.html">Lydia Gonzalez Gromatzky, '86, </a> Of Counsel, Andrews Kurth LLP (Austin), who practices international environmental law; <a href="http://www.awrlloyd.com/principals/name/lilly-teng/">Lilly Teng</a><strong>,</strong> Senior Partner, Americas, AWR LLoyd (San Antonio), who is an M&amp;A advisor for Asian and American clients; <a href="http://www.andrewskurth.com/people-LisaMShelton.html">Lisa Shelton</a><strong>,</strong> Partner, Andrews Kurth LLP (Austin), who practices international environmental law; and <a href="http://www.adamsandreese.com/derek-jose-anchondo/">Derek Anchondo</a>, Partner, Adams and Reese LLP (Houston), who practices international oil and gas law.</p>
  <p>Lunch will be provided. Please RSVP by Wednesday, March 11, on <a href="https://law-utexas-csm.symplicity.com/students/">Symplicity</a> by selecting the 'Events' tab.</p><p>If you need an accommodation to participate in this event, please contact the event
                                          event sponsor or the Texas Law Special Events Office at <a href="mailto:specialevents@law.utexas.edu">specialevents@law.utexas.edu</a> no later than seven business days prior to the event.</p>
CATEGORIES:Panel Discussion / Speaker Series
LOCATION:TNH 2.139 - Wilson Classroom
URL:http://law.utexas.edu/calendar/2015/03/12/20178/
CLASS:PUBLIC
STATUS:CONFIRMED
COMMENT:Please contact Natalie Aitken, Career Counselor, at 512-232-6056 or <a href="mailto:naitken@law.utexas.edu">naitken@law.utexas.edu</a>.
END:VEVENT
END:VCALENDAR