BEGIN:VCALENDAR
VERSION:2.0
PRODID:-//UNIVERSITY OF TEXAS SCHOOL OF LAW//NONSGML Events Calendar v1.0//EN
X-WR-TIMEZONE:America/Chicago
BEGIN:VTIMEZONE
TZID:US/Central
X-LIC-LOCATION:America/Chicago
BEGIN:DAYLIGHT
TZOFFSETFROM:-0600
TZOFFSETTO:-0500
TZNAME:CDT
DTSTART:19700308T020000
RRULE:FREQ=YEARLY;BYMONTH=3;BYDAY=2SU
END:DAYLIGHT
BEGIN:STANDARD
TZOFFSETFROM:-0500
TZOFFSETTO:-0600
TZNAME:CST
DTSTART:19701101T020000
RRULE:FREQ=YEARLY;BYMONTH=11;BYDAY=1SU
END:STANDARD
END:VTIMEZONE
BEGIN:VEVENT
DTSTART;TZID=US/Central:20150312T120000
DTEND;VALUE=DATE-TIME;TZID=US/Central:20150312T130000

DTSTAMP:20260422T104700Z
CREATED:20150309T231100Z
LAST-MODIFIED:20150309T231100Z
UID:20150312T120000-20284@law.utexas.edu
SUMMARY:Marriage Equality at the Lege
DESCRIPTION:<p>Join UT Law's ACS on March 12 in TNH 3.125 for a discussion on the marriage equality movement in Texas from the early 1970s to the present. </p>
  <p>Our guest speaker will be former State Representative Glen Maxey. Glen Maxey was Texas' first openly LBGTQ representative  and served from 1991 - 2003. Maxey is also a founding member of AIDS Services of Austin and Equality Texas. </p>
  <p>Hope to see you there!</p>\n\nIf you need an accommodation to participate in this event, please contact the event sponsor or the Texas Law Special Events Office at specialevents@law.utexas.edu no later than seven business days prior to the event.
X-ALT-DESC;FMTTYPE=text/html:<p>Join UT Law's ACS on March 12 in TNH 3.125 for a discussion on the marriage equality movement in Texas from the early 1970s to the present. </p>
  <p>Our guest speaker will be former State Representative Glen Maxey. Glen Maxey was Texas' first openly LBGTQ representative  and served from 1991 - 2003. Maxey is also a founding member of AIDS Services of Austin and Equality Texas. </p>
  <p>Hope to see you there!</p><p>If you need an accommodation to participate in this event, please contact the event
                                          event sponsor or the Texas Law Special Events Office at <a href="mailto:specialevents@law.utexas.edu">specialevents@law.utexas.edu</a> no later than seven business days prior to the event.</p>

LOCATION:TNH 3.125 - Denius Classroom
URL:http://law.utexas.edu/calendar/2015/03/12/20284/
CLASS:PUBLIC
STATUS:CONFIRMED

END:VEVENT
END:VCALENDAR