BEGIN:VCALENDAR
VERSION:2.0
PRODID:-//UNIVERSITY OF TEXAS SCHOOL OF LAW//NONSGML Events Calendar v1.0//EN
X-WR-TIMEZONE:America/Chicago
BEGIN:VTIMEZONE
TZID:US/Central
X-LIC-LOCATION:America/Chicago
BEGIN:DAYLIGHT
TZOFFSETFROM:-0600
TZOFFSETTO:-0500
TZNAME:CDT
DTSTART:19700308T020000
RRULE:FREQ=YEARLY;BYMONTH=3;BYDAY=2SU
END:DAYLIGHT
BEGIN:STANDARD
TZOFFSETFROM:-0500
TZOFFSETTO:-0600
TZNAME:CST
DTSTART:19701101T020000
RRULE:FREQ=YEARLY;BYMONTH=11;BYDAY=1SU
END:STANDARD
END:VTIMEZONE
BEGIN:VEVENT
DTSTART;TZID=US/Central:20150316


DTSTAMP:20260422T144800Z
CREATED:20150313T183500Z
LAST-MODIFIED:20150313T235500Z
UID:20150316T000000-20317@law.utexas.edu
SUMMARY:Access to Justice Internship Program
DESCRIPTION:<p>The<a href="http://www.texasatj.org/atj-internship-program"> Access to Justice Internship Program</a> is now accepting applications funding internships during summer 2015 for students working in nonprofit civil legal aid organizations. The deadline for submission is <strong>March 31, 2015</strong>. This year, we have expanded the guidelines to include applications for interns working in both rural and urban offices.</p>
  <p>Information about the program, guidelines and the application can be found on the Texas Access to Justice Commission <a href="http://www.texasatj.org/atj-internship-program">website. </a></p>\n\nIf you need an accommodation to participate in this event, please contact the event sponsor or the Texas Law Special Events Office at specialevents@law.utexas.edu no later than seven business days prior to the event.
X-ALT-DESC;FMTTYPE=text/html:<p>The<a href="http://www.texasatj.org/atj-internship-program"> Access to Justice Internship Program</a> is now accepting applications funding internships during summer 2015 for students working in nonprofit civil legal aid organizations. The deadline for submission is <strong>March 31, 2015</strong>. This year, we have expanded the guidelines to include applications for interns working in both rural and urban offices.</p>
  <p>Information about the program, guidelines and the application can be found on the Texas Access to Justice Commission <a href="http://www.texasatj.org/atj-internship-program">website. </a></p><p>If you need an accommodation to participate in this event, please contact the event
                                          event sponsor or the Texas Law Special Events Office at <a href="mailto:specialevents@law.utexas.edu">specialevents@law.utexas.edu</a> no later than seven business days prior to the event.</p>
CATEGORIES:Other

URL:http://law.utexas.edu/calendar/2015/03/16/20317/
CLASS:PUBLIC
STATUS:CONFIRMED
COMMENT:Nicole Simmons, Director of Public Service Programs in the CSO, at <a href="mailto:nsimmons@law.utexas.edu">nsimmons@law.utexas.edu</a>.
END:VEVENT
END:VCALENDAR