BEGIN:VCALENDAR
VERSION:2.0
PRODID:-//UNIVERSITY OF TEXAS SCHOOL OF LAW//NONSGML Events Calendar v1.0//EN
X-WR-TIMEZONE:America/Chicago
BEGIN:VTIMEZONE
TZID:US/Central
X-LIC-LOCATION:America/Chicago
BEGIN:DAYLIGHT
TZOFFSETFROM:-0600
TZOFFSETTO:-0500
TZNAME:CDT
DTSTART:19700308T020000
RRULE:FREQ=YEARLY;BYMONTH=3;BYDAY=2SU
END:DAYLIGHT
BEGIN:STANDARD
TZOFFSETFROM:-0500
TZOFFSETTO:-0600
TZNAME:CST
DTSTART:19701101T020000
RRULE:FREQ=YEARLY;BYMONTH=11;BYDAY=1SU
END:STANDARD
END:VTIMEZONE
BEGIN:VEVENT
DTSTART;TZID=US/Central:20150319T190000


DTSTAMP:20260422T144800Z
CREATED:20150227T213000Z
LAST-MODIFIED:20150227T213100Z
UID:20150319T190000-20259@law.utexas.edu
SUMMARY:Paris Alumni Reception
DESCRIPTION:<p>The University of Texas School of Law is hosting a cocktail reception for Texas Law alumni in Europe with Professor David Rabban and Lauren Fielder, Director of Graduate and International Programs
   
  Thursday, March 19
  7:00 p.m
  Willi's Wine Bar
  13 rue des Petits Champs
  75001 Paris</p>
  <p>Register at <a href="http://law.connect.utexas.edu/Paris15">http://law.connect.utexas.edu/Paris15</a></p>
  <p>Please feel free to invite other Texas Law alumni in the area to this event.
  </p>\n\nIf you need an accommodation to participate in this event, please contact the event sponsor or the Texas Law Special Events Office at specialevents@law.utexas.edu no later than seven business days prior to the event.
X-ALT-DESC;FMTTYPE=text/html:<p>The University of Texas School of Law is hosting a cocktail reception for Texas Law alumni in Europe with Professor David Rabban and Lauren Fielder, Director of Graduate and International Programs
   
  Thursday, March 19
  7:00 p.m
  Willi's Wine Bar
  13 rue des Petits Champs
  75001 Paris</p>
  <p>Register at <a href="http://law.connect.utexas.edu/Paris15">http://law.connect.utexas.edu/Paris15</a></p>
  <p>Please feel free to invite other Texas Law alumni in the area to this event.
  </p><p>If you need an accommodation to participate in this event, please contact the event
                                          event sponsor or the Texas Law Special Events Office at <a href="mailto:specialevents@law.utexas.edu">specialevents@law.utexas.edu</a> no later than seven business days prior to the event.</p>
CATEGORIES:Reception

URL:http://law.utexas.edu/calendar/2015/03/19/20259/
CLASS:PUBLIC
STATUS:CONFIRMED

END:VEVENT
END:VCALENDAR