BEGIN:VCALENDAR
VERSION:2.0
PRODID:-//UNIVERSITY OF TEXAS SCHOOL OF LAW//NONSGML Events Calendar v1.0//EN
X-WR-TIMEZONE:America/Chicago
BEGIN:VTIMEZONE
TZID:US/Central
X-LIC-LOCATION:America/Chicago
BEGIN:DAYLIGHT
TZOFFSETFROM:-0600
TZOFFSETTO:-0500
TZNAME:CDT
DTSTART:19700308T020000
RRULE:FREQ=YEARLY;BYMONTH=3;BYDAY=2SU
END:DAYLIGHT
BEGIN:STANDARD
TZOFFSETFROM:-0500
TZOFFSETTO:-0600
TZNAME:CST
DTSTART:19701101T020000
RRULE:FREQ=YEARLY;BYMONTH=11;BYDAY=1SU
END:STANDARD
END:VTIMEZONE
BEGIN:VEVENT
DTSTART;TZID=US/Central:20150324T120000
DTEND;VALUE=DATE-TIME;TZID=US/Central:20150324T131500

DTSTAMP:20260422T174000Z
CREATED:20141208T211700Z
LAST-MODIFIED:20150323T160200Z
UID:20150324T120000-19903@law.utexas.edu
SUMMARY:Judicial Internships in Fall &amp; Spring
DESCRIPTION:<p>Learn about judicial internships during the fall or spring semester. Even if you attended the previous panel on summer judicial internships, we encourage you to take advantage of this opportunity to visit directly with judges and judicial staff over lunch about why judicial internships are valuable and the opportunities available both for the coming summer and school year. Please join the following judges and staff attorneys for lunch:</p>
  <p>Judge Lee Yeakel, ’69, U.S. District Court for the Western District of Texas</p>
  <p>Justice Scott Field, ’95, Texas Third Court of Appeals</p>
  <p>Judge Craig Bennett and Judge Tommy Broyles, ALJs, Texas State Office of Administrative Hearings</p>
  <p>Sarah McHaney, ’87, Staff Attorney to Judge Christopher Mott, U.S. Bankruptcy Court for the Western District of Texas</p>
  <p>Sarah Wood, Law Clerk to Judge Tony Davis, U.S. Bankruptcy Court for the Western District of Texas</p>
  <p>Heather Holmes, ’03, Staff Attorney for Justice Phil Johnson, Supreme Court of Texas</p>
  <p>Ingrid Grobey, ’12, Staff Attorney to Judge Elsa Alcala, Texas Court of Criminal Appeals</p>
  <p>RSVP by Monday, March 23, on <a href="http://https//law-utexas-csm.symplicity.com/students/">Symplicity </a>by selecting the 'Events' tab.</p>\n\nIf you need an accommodation to participate in this event, please contact the event sponsor or the Texas Law Special Events Office at specialevents@law.utexas.edu no later than seven business days prior to the event.
X-ALT-DESC;FMTTYPE=text/html:<p>Learn about judicial internships during the fall or spring semester. Even if you attended the previous panel on summer judicial internships, we encourage you to take advantage of this opportunity to visit directly with judges and judicial staff over lunch about why judicial internships are valuable and the opportunities available both for the coming summer and school year. Please join the following judges and staff attorneys for lunch:</p>
  <p>Judge Lee Yeakel, ’69, U.S. District Court for the Western District of Texas</p>
  <p>Justice Scott Field, ’95, Texas Third Court of Appeals</p>
  <p>Judge Craig Bennett and Judge Tommy Broyles, ALJs, Texas State Office of Administrative Hearings</p>
  <p>Sarah McHaney, ’87, Staff Attorney to Judge Christopher Mott, U.S. Bankruptcy Court for the Western District of Texas</p>
  <p>Sarah Wood, Law Clerk to Judge Tony Davis, U.S. Bankruptcy Court for the Western District of Texas</p>
  <p>Heather Holmes, ’03, Staff Attorney for Justice Phil Johnson, Supreme Court of Texas</p>
  <p>Ingrid Grobey, ’12, Staff Attorney to Judge Elsa Alcala, Texas Court of Criminal Appeals</p>
  <p>RSVP by Monday, March 23, on <a href="http://https//law-utexas-csm.symplicity.com/students/">Symplicity </a>by selecting the 'Events' tab.</p><p>If you need an accommodation to participate in this event, please contact the event
                                          event sponsor or the Texas Law Special Events Office at <a href="mailto:specialevents@law.utexas.edu">specialevents@law.utexas.edu</a> no later than seven business days prior to the event.</p>
CATEGORIES:Workshop / Training Program
LOCATION:CCJ 2.300 - Jamail Pavilion
URL:http://law.utexas.edu/calendar/2015/03/24/19903/
CLASS:PUBLIC
STATUS:CONFIRMED
COMMENT:Please contact Remi Ratliff, Director of Judicial Programs, at 512-232-1163 or <a href="mailto:rratliff@law.utexas.edu">rratliff@law.utexas.edu</a>.
END:VEVENT
END:VCALENDAR