BEGIN:VCALENDAR
VERSION:2.0
PRODID:-//UNIVERSITY OF TEXAS SCHOOL OF LAW//NONSGML Events Calendar v1.0//EN
X-WR-TIMEZONE:America/Chicago
BEGIN:VTIMEZONE
TZID:US/Central
X-LIC-LOCATION:America/Chicago
BEGIN:DAYLIGHT
TZOFFSETFROM:-0600
TZOFFSETTO:-0500
TZNAME:CDT
DTSTART:19700308T020000
RRULE:FREQ=YEARLY;BYMONTH=3;BYDAY=2SU
END:DAYLIGHT
BEGIN:STANDARD
TZOFFSETFROM:-0500
TZOFFSETTO:-0600
TZNAME:CST
DTSTART:19701101T020000
RRULE:FREQ=YEARLY;BYMONTH=11;BYDAY=1SU
END:STANDARD
END:VTIMEZONE
BEGIN:VEVENT
DTSTART;TZID=US/Central:20150325T100000
DTEND;VALUE=DATE-TIME;TZID=US/Central:20150325T150000

DTSTAMP:20260422T174100Z
CREATED:20150114T210200Z
LAST-MODIFIED:20150114T210200Z
UID:20150325T100000-20001@law.utexas.edu
SUMMARY:UTexas Law Marketplace
DESCRIPTION:<p>Come hear from bar prep providers regarding their programs so that you can make an education decision about which program to choose. There will be treats and freebies! All students are welcome - 1L, 2L, 3L and LLM!</p>\n\nIf you need an accommodation to participate in this event, please contact the event sponsor or the Texas Law Special Events Office at specialevents@law.utexas.edu no later than seven business days prior to the event.
X-ALT-DESC;FMTTYPE=text/html:<p>Come hear from bar prep providers regarding their programs so that you can make an education decision about which program to choose. There will be treats and freebies! All students are welcome - 1L, 2L, 3L and LLM!</p><p>If you need an accommodation to participate in this event, please contact the event
                                          event sponsor or the Texas Law Special Events Office at <a href="mailto:specialevents@law.utexas.edu">specialevents@law.utexas.edu</a> no later than seven business days prior to the event.</p>
CATEGORIES:Other

URL:http://law.utexas.edu/calendar/2015/03/25/20001/
CLASS:PUBLIC
STATUS:CONFIRMED

END:VEVENT
END:VCALENDAR