BEGIN:VCALENDAR
VERSION:2.0
PRODID:-//UNIVERSITY OF TEXAS SCHOOL OF LAW//NONSGML Events Calendar v1.0//EN
X-WR-TIMEZONE:America/Chicago
BEGIN:VTIMEZONE
TZID:US/Central
X-LIC-LOCATION:America/Chicago
BEGIN:DAYLIGHT
TZOFFSETFROM:-0600
TZOFFSETTO:-0500
TZNAME:CDT
DTSTART:19700308T020000
RRULE:FREQ=YEARLY;BYMONTH=3;BYDAY=2SU
END:DAYLIGHT
BEGIN:STANDARD
TZOFFSETFROM:-0500
TZOFFSETTO:-0600
TZNAME:CST
DTSTART:19701101T020000
RRULE:FREQ=YEARLY;BYMONTH=11;BYDAY=1SU
END:STANDARD
END:VTIMEZONE
BEGIN:VEVENT
DTSTART;TZID=US/Central:20150326T153000
DTEND;VALUE=DATE-TIME;TZID=US/Central:20150326T173000

DTSTAMP:20260422T144900Z
CREATED:20140923T192000Z
LAST-MODIFIED:20150304T221600Z
UID:20150326T153000-19529@law.utexas.edu
SUMMARY:Battling for Immigrants’ Rights
DESCRIPTION:<p>3:30 pm to 5 pm in the Eidman Courtroom - reception to follow in the Jamail Pavilion</p>
  <p>Join us for a talk by Lucas Guttentag on developments in immigration since the passage of the Immigration Act of 1965 and his experiences battling for immigrants’ rights as a litigator and advocate and, of late, inside government.</p> 
  <p>Guttentag is the founder and former national director of the ACLU Immigrants’ Rights Project, who is currently serving in the Obama administration as Senior Counselor to the Director of the US Citizenship and Immigration Services at the Department of Homeland Security, on leave from his positions at Yale and Stanford Law Schools.  Guttentag is also a former law clerk to Judge William Wayne Justice, and his talk will kick off the 10th anniversary celebration for the William Wayne Justice Center for Public Interest Law. </p>
  <p>Guttentag’s visit as a G. Rollie White Public Interest Scholar is supported by a generous gift from the G. Rollie White Trust. The program brings outstanding legal scholars, practitioners and advocates from the field of public service to Texas Law to foster discussion of issues related to public interest law, to raise the profile of lawyers working in this area, and to encourage students to view public service as an honored and expected part of every legal career. Guttentag is Texas Law’s fourth G. Rollie White Public Interest Scholar.
  </p>\n\nIf you need an accommodation to participate in this event, please contact the event sponsor or the Texas Law Special Events Office at specialevents@law.utexas.edu no later than seven business days prior to the event.
X-ALT-DESC;FMTTYPE=text/html:<p>3:30 pm to 5 pm in the Eidman Courtroom - reception to follow in the Jamail Pavilion</p>
  <p>Join us for a talk by Lucas Guttentag on developments in immigration since the passage of the Immigration Act of 1965 and his experiences battling for immigrants’ rights as a litigator and advocate and, of late, inside government.</p> 
  <p>Guttentag is the founder and former national director of the ACLU Immigrants’ Rights Project, who is currently serving in the Obama administration as Senior Counselor to the Director of the US Citizenship and Immigration Services at the Department of Homeland Security, on leave from his positions at Yale and Stanford Law Schools.  Guttentag is also a former law clerk to Judge William Wayne Justice, and his talk will kick off the 10th anniversary celebration for the William Wayne Justice Center for Public Interest Law. </p>
  <p>Guttentag’s visit as a G. Rollie White Public Interest Scholar is supported by a generous gift from the G. Rollie White Trust. The program brings outstanding legal scholars, practitioners and advocates from the field of public service to Texas Law to foster discussion of issues related to public interest law, to raise the profile of lawyers working in this area, and to encourage students to view public service as an honored and expected part of every legal career. Guttentag is Texas Law’s fourth G. Rollie White Public Interest Scholar.
  </p><p>If you need an accommodation to participate in this event, please contact the event
                                          event sponsor or the Texas Law Special Events Office at <a href="mailto:specialevents@law.utexas.edu">specialevents@law.utexas.edu</a> no later than seven business days prior to the event.</p>
CATEGORIES:Other
LOCATION:CCJ 2.306 - Eidman Courtroom
URL:http://law.utexas.edu/calendar/2015/03/26/19529/
CLASS:PUBLIC
STATUS:CONFIRMED

END:VEVENT
END:VCALENDAR