BEGIN:VCALENDAR
VERSION:2.0
PRODID:-//UNIVERSITY OF TEXAS SCHOOL OF LAW//NONSGML Events Calendar v1.0//EN
X-WR-TIMEZONE:America/Chicago
BEGIN:VTIMEZONE
TZID:US/Central
X-LIC-LOCATION:America/Chicago
BEGIN:DAYLIGHT
TZOFFSETFROM:-0600
TZOFFSETTO:-0500
TZNAME:CDT
DTSTART:19700308T020000
RRULE:FREQ=YEARLY;BYMONTH=3;BYDAY=2SU
END:DAYLIGHT
BEGIN:STANDARD
TZOFFSETFROM:-0500
TZOFFSETTO:-0600
TZNAME:CST
DTSTART:19701101T020000
RRULE:FREQ=YEARLY;BYMONTH=11;BYDAY=1SU
END:STANDARD
END:VTIMEZONE
BEGIN:VEVENT
DTSTART;TZID=US/Central:20150326T153000
DTEND;VALUE=DATE-TIME;TZID=US/Central:20150326T161500

DTSTAMP:20260422T144900Z
CREATED:20150312T211600Z
LAST-MODIFIED:20150312T212300Z
UID:20150326T153000-20315@law.utexas.edu
SUMMARY:1L Registration Info Session
DESCRIPTION:<p>Early registration for Fall 2015 is March 30-April 3. Come learn about the early registration system works and how to best maximize your chances to get all of the courses you would like. Session will repeat Friday, March 27, at noon in TNH 2.140. </p>\n\nIf you need an accommodation to participate in this event, please contact the event sponsor or the Texas Law Special Events Office at specialevents@law.utexas.edu no later than seven business days prior to the event.
X-ALT-DESC;FMTTYPE=text/html:<p>Early registration for Fall 2015 is March 30-April 3. Come learn about the early registration system works and how to best maximize your chances to get all of the courses you would like. Session will repeat Friday, March 27, at noon in TNH 2.140. </p><p>If you need an accommodation to participate in this event, please contact the event
                                          event sponsor or the Texas Law Special Events Office at <a href="mailto:specialevents@law.utexas.edu">specialevents@law.utexas.edu</a> no later than seven business days prior to the event.</p>
CATEGORIES:Workshop / Training Program
LOCATION:TNH 2.137 - Gayle Classroom
URL:http://law.utexas.edu/calendar/2015/03/26/20315/
CLASS:PUBLIC
STATUS:CONFIRMED

END:VEVENT
END:VCALENDAR