BEGIN:VCALENDAR
VERSION:2.0
PRODID:-//UNIVERSITY OF TEXAS SCHOOL OF LAW//NONSGML Events Calendar v1.0//EN
X-WR-TIMEZONE:America/Chicago
BEGIN:VTIMEZONE
TZID:US/Central
X-LIC-LOCATION:America/Chicago
BEGIN:DAYLIGHT
TZOFFSETFROM:-0600
TZOFFSETTO:-0500
TZNAME:CDT
DTSTART:19700308T020000
RRULE:FREQ=YEARLY;BYMONTH=3;BYDAY=2SU
END:DAYLIGHT
BEGIN:STANDARD
TZOFFSETFROM:-0500
TZOFFSETTO:-0600
TZNAME:CST
DTSTART:19701101T020000
RRULE:FREQ=YEARLY;BYMONTH=11;BYDAY=1SU
END:STANDARD
END:VTIMEZONE
BEGIN:VEVENT
DTSTART;TZID=US/Central:20150328T083000
DTEND;VALUE=DATE-TIME;TZID=US/Central:20150328T150000

DTSTAMP:20260422T144600Z
CREATED:20150108T195500Z
LAST-MODIFIED:20150325T194300Z
UID:20150328T083000-19983@law.utexas.edu
SUMMARY:Latino Law Day
DESCRIPTION:<p>The Chicano/Hispanic Law Students' Association's invites prospective law students to the second annual Latino Law Day.  The event includes attorney and law student panels, an admissions presentation, an LSAT preparatory session, a mock law school class, and a lunch with law students and attorneys.  Breakfast and t-shirts are also provided, as well as a free drawing for a Kaplan LSAT preparatory scholarship. 
   
  The event is free for any prospective law student. </p>
  <p>Register Online: <a href="http://www.formstack.com/forms/?1888520-WsVml3kFPv">http://www.formstack.com/forms/?1888520-WsVml3kFPv</a></p>\n\nIf you need an accommodation to participate in this event, please contact the event sponsor or the Texas Law Special Events Office at specialevents@law.utexas.edu no later than seven business days prior to the event.
X-ALT-DESC;FMTTYPE=text/html:<p>The Chicano/Hispanic Law Students' Association's invites prospective law students to the second annual Latino Law Day.  The event includes attorney and law student panels, an admissions presentation, an LSAT preparatory session, a mock law school class, and a lunch with law students and attorneys.  Breakfast and t-shirts are also provided, as well as a free drawing for a Kaplan LSAT preparatory scholarship. 
   
  The event is free for any prospective law student. </p>
  <p>Register Online: <a href="http://www.formstack.com/forms/?1888520-WsVml3kFPv">http://www.formstack.com/forms/?1888520-WsVml3kFPv</a></p><p>If you need an accommodation to participate in this event, please contact the event
                                          event sponsor or the Texas Law Special Events Office at <a href="mailto:specialevents@law.utexas.edu">specialevents@law.utexas.edu</a> no later than seven business days prior to the event.</p>
CATEGORIES:Panel Discussion / Speaker Series
LOCATION:TNH 2.123 - Beck Classroom
URL:http://law.utexas.edu/calendar/2015/03/28/19983/
CLASS:PUBLIC
STATUS:CONFIRMED

END:VEVENT
END:VCALENDAR