BEGIN:VCALENDAR
VERSION:2.0
PRODID:-//UNIVERSITY OF TEXAS SCHOOL OF LAW//NONSGML Events Calendar v1.0//EN
X-WR-TIMEZONE:America/Chicago
BEGIN:VTIMEZONE
TZID:US/Central
X-LIC-LOCATION:America/Chicago
BEGIN:DAYLIGHT
TZOFFSETFROM:-0600
TZOFFSETTO:-0500
TZNAME:CDT
DTSTART:19700308T020000
RRULE:FREQ=YEARLY;BYMONTH=3;BYDAY=2SU
END:DAYLIGHT
BEGIN:STANDARD
TZOFFSETFROM:-0500
TZOFFSETTO:-0600
TZNAME:CST
DTSTART:19701101T020000
RRULE:FREQ=YEARLY;BYMONTH=11;BYDAY=1SU
END:STANDARD
END:VTIMEZONE
BEGIN:VEVENT
DTSTART;TZID=US/Central:20150330T120000
DTEND;VALUE=DATE-TIME;TZID=US/Central:20150330T130000

DTSTAMP:20260422T161800Z
CREATED:20150121T173400Z
LAST-MODIFIED:20150327T161900Z
UID:20150330T120000-20045@law.utexas.edu
SUMMARY:Equal Justice Works Information Session
DESCRIPTION:<p>Come learn about <a href="http://www.equaljusticeworks.org/">Equal Justice Works’</a> public interest programs and initiatives. Equal Justice Works' Director, <a href="http://www.equaljusticeworks.org/about/staff#Bowers">Isaac Bowers</a>, will discuss both summer and postgraduate opportunities with Equal Justice Works and options for relieving educational debt after you graduate.</p>
  <p>Lunch will be served. RSVP by Friday, March 27, on <a href="https://law-utexas-csm.symplicity.com/students/">Symplicity</a> by selecting the 'Events' tab.</p>
  <p> </p>
  <p>Topics to be discussed include:
  Equal Justice Works’ postgraduate fellowship programs (AmeriCorps Fellowships and Equal Justice Works fellowships): how they work; why, how and when to apply; what works; and more.
  	The expansion of the SummerCorps program - AmeriCorps JD. Students can work either over the summer or during the semester and earn an educational award while getting valuable public interest experience and do direct legal services.
  	The annual EJW Conference and Career Fair, which provides a great opportunity to network with fellow students and employers from across the country, as well as obtain a job.
  	The new Student Engagement program and how it is connecting public interest law students across the country.
  	The possibility that Congress may cap Public Service Loan Forgiveness and what is being done to oppose it.
  	How you may become a member of the EJW National Advisory Committee.
  </p>\n\nIf you need an accommodation to participate in this event, please contact the event sponsor or the Texas Law Special Events Office at specialevents@law.utexas.edu no later than seven business days prior to the event.
X-ALT-DESC;FMTTYPE=text/html:<p>Come learn about <a href="http://www.equaljusticeworks.org/">Equal Justice Works’</a> public interest programs and initiatives. Equal Justice Works' Director, <a href="http://www.equaljusticeworks.org/about/staff#Bowers">Isaac Bowers</a>, will discuss both summer and postgraduate opportunities with Equal Justice Works and options for relieving educational debt after you graduate.</p>
  <p>Lunch will be served. RSVP by Friday, March 27, on <a href="https://law-utexas-csm.symplicity.com/students/">Symplicity</a> by selecting the 'Events' tab.</p>
  <p> </p>
  <p>Topics to be discussed include:
  Equal Justice Works’ postgraduate fellowship programs (AmeriCorps Fellowships and Equal Justice Works fellowships): how they work; why, how and when to apply; what works; and more.
  	The expansion of the SummerCorps program - AmeriCorps JD. Students can work either over the summer or during the semester and earn an educational award while getting valuable public interest experience and do direct legal services.
  	The annual EJW Conference and Career Fair, which provides a great opportunity to network with fellow students and employers from across the country, as well as obtain a job.
  	The new Student Engagement program and how it is connecting public interest law students across the country.
  	The possibility that Congress may cap Public Service Loan Forgiveness and what is being done to oppose it.
  	How you may become a member of the EJW National Advisory Committee.
  </p><p>If you need an accommodation to participate in this event, please contact the event
                                          event sponsor or the Texas Law Special Events Office at <a href="mailto:specialevents@law.utexas.edu">specialevents@law.utexas.edu</a> no later than seven business days prior to the event.</p>
CATEGORIES:Workshop / Training Program
LOCATION:TNH 3.126 - Ratliff Classroom
URL:http://law.utexas.edu/calendar/2015/03/30/20045/
CLASS:PUBLIC
STATUS:CONFIRMED
COMMENT:Please contact Nicole Simmons, Director of Public Service Programs, at 512-232-1160 or <a href="mailto:nsimmons@law.utexas.edu">nsimmosns@law.utexas.edu</a>.
END:VEVENT
END:VCALENDAR