BEGIN:VCALENDAR
VERSION:2.0
PRODID:-//UNIVERSITY OF TEXAS SCHOOL OF LAW//NONSGML Events Calendar v1.0//EN
X-WR-TIMEZONE:America/Chicago
BEGIN:VTIMEZONE
TZID:US/Central
X-LIC-LOCATION:America/Chicago
BEGIN:DAYLIGHT
TZOFFSETFROM:-0600
TZOFFSETTO:-0500
TZNAME:CDT
DTSTART:19700308T020000
RRULE:FREQ=YEARLY;BYMONTH=3;BYDAY=2SU
END:DAYLIGHT
BEGIN:STANDARD
TZOFFSETFROM:-0500
TZOFFSETTO:-0600
TZNAME:CST
DTSTART:19701101T020000
RRULE:FREQ=YEARLY;BYMONTH=11;BYDAY=1SU
END:STANDARD
END:VTIMEZONE
BEGIN:VEVENT
DTSTART;TZID=US/Central:20150331T114500
DTEND;VALUE=DATE-TIME;TZID=US/Central:20150331T124500

DTSTAMP:20260422T113700Z
CREATED:20150306T173900Z
LAST-MODIFIED:20150330T215900Z
UID:20150331T114500-20279@law.utexas.edu
SUMMARY:How to Succeed in Your Summer Clerkship
DESCRIPTION:<p>Upperclass students will discuss their summer clerkship experiences, answer questions, and give advice on how to succeed. Panelist include Cameron Byrd, 3L, <a href="http://www.azalaw.com/">AZA Law</a> (Houston); Shelisa Brock, 3L, <a href="http://www.jw.com/about/office/DAL">Jackson Walker L.L.P.</a> (Dallas); Silvia Piñón, 3L, <a href="http://www.jonesday.com/dallas/">Jones Day</a> (Dallas); and Stephen Ort, 3L, <a href="http://www.cahill.com/index">Cahill Gordon &amp; Reindel LLP</a> (New York). Moderated by Amanda Moon, 2L and president of the <a href="http://www.utexas.edu/law/career/accs/index.html">Action Committee for Career Services</a>. Lunch will be sponsored by King and Spalding.</p>
  <p>Please RSVP by Monday, March 30, on <a href="https://law-utexas-csm.symplicity.com/students/">Symplicity</a> by selecting the 'Events' tab.</p>\n\nIf you need an accommodation to participate in this event, please contact the event sponsor or the Texas Law Special Events Office at specialevents@law.utexas.edu no later than seven business days prior to the event.
X-ALT-DESC;FMTTYPE=text/html:<p>Upperclass students will discuss their summer clerkship experiences, answer questions, and give advice on how to succeed. Panelist include Cameron Byrd, 3L, <a href="http://www.azalaw.com/">AZA Law</a> (Houston); Shelisa Brock, 3L, <a href="http://www.jw.com/about/office/DAL">Jackson Walker L.L.P.</a> (Dallas); Silvia Piñón, 3L, <a href="http://www.jonesday.com/dallas/">Jones Day</a> (Dallas); and Stephen Ort, 3L, <a href="http://www.cahill.com/index">Cahill Gordon &amp; Reindel LLP</a> (New York). Moderated by Amanda Moon, 2L and president of the <a href="http://www.utexas.edu/law/career/accs/index.html">Action Committee for Career Services</a>. Lunch will be sponsored by King and Spalding.</p>
  <p>Please RSVP by Monday, March 30, on <a href="https://law-utexas-csm.symplicity.com/students/">Symplicity</a> by selecting the 'Events' tab.</p><p>If you need an accommodation to participate in this event, please contact the event
                                          event sponsor or the Texas Law Special Events Office at <a href="mailto:specialevents@law.utexas.edu">specialevents@law.utexas.edu</a> no later than seven business days prior to the event.</p>

LOCATION:TNH 2.138 - Blanton Classroom
URL:http://law.utexas.edu/calendar/2015/03/31/20279/
CLASS:PUBLIC
STATUS:CONFIRMED

END:VEVENT
END:VCALENDAR