BEGIN:VCALENDAR
VERSION:2.0
PRODID:-//UNIVERSITY OF TEXAS SCHOOL OF LAW//NONSGML Events Calendar v1.0//EN
X-WR-TIMEZONE:America/Chicago
BEGIN:VTIMEZONE
TZID:US/Central
X-LIC-LOCATION:America/Chicago
BEGIN:DAYLIGHT
TZOFFSETFROM:-0600
TZOFFSETTO:-0500
TZNAME:CDT
DTSTART:19700308T020000
RRULE:FREQ=YEARLY;BYMONTH=3;BYDAY=2SU
END:DAYLIGHT
BEGIN:STANDARD
TZOFFSETFROM:-0500
TZOFFSETTO:-0600
TZNAME:CST
DTSTART:19701101T020000
RRULE:FREQ=YEARLY;BYMONTH=11;BYDAY=1SU
END:STANDARD
END:VTIMEZONE
BEGIN:VEVENT
DTSTART;TZID=US/Central:20150513T173000
DTEND;VALUE=DATE-TIME;TZID=US/Central:20150513T190000

DTSTAMP:20260420T073400Z
CREATED:20150429T164700Z
LAST-MODIFIED:20150429T164700Z
UID:20150513T173000-20461@law.utexas.edu
SUMMARY:Houston Young Alumni Judiciary Reception
DESCRIPTION:<p>Texas Law Alumni of the Houston Judiciary</p>
  <p>Wednesday, May 13, 2015
  5:30 p.m. to 7:00 p.m.
  The Home of Emily and Geoff Gannaway
  2170 Dryden Road
  Houston, Texas</p>
  <p>Please register by May 10 at <a href="http://law.connect.utexas.edu/HYAJ15">http://law.connect.utexas.edu/HYAJ15</a></p>
  <p>A suggested donation of $25 to the general Endowment for Excellence Scholarship Fund is appreciated. You can make your gift when you register.</p>\n\nIf you need an accommodation to participate in this event, please contact the event sponsor or the Texas Law Special Events Office at specialevents@law.utexas.edu no later than seven business days prior to the event.
X-ALT-DESC;FMTTYPE=text/html:<p>Texas Law Alumni of the Houston Judiciary</p>
  <p>Wednesday, May 13, 2015
  5:30 p.m. to 7:00 p.m.
  The Home of Emily and Geoff Gannaway
  2170 Dryden Road
  Houston, Texas</p>
  <p>Please register by May 10 at <a href="http://law.connect.utexas.edu/HYAJ15">http://law.connect.utexas.edu/HYAJ15</a></p>
  <p>A suggested donation of $25 to the general Endowment for Excellence Scholarship Fund is appreciated. You can make your gift when you register.</p><p>If you need an accommodation to participate in this event, please contact the event
                                          event sponsor or the Texas Law Special Events Office at <a href="mailto:specialevents@law.utexas.edu">specialevents@law.utexas.edu</a> no later than seven business days prior to the event.</p>
CATEGORIES:Reception

URL:http://law.utexas.edu/calendar/2015/05/13/20461/
CLASS:PUBLIC
STATUS:CONFIRMED

END:VEVENT
END:VCALENDAR