BEGIN:VCALENDAR
VERSION:2.0
PRODID:-//UNIVERSITY OF TEXAS SCHOOL OF LAW//NONSGML Events Calendar v1.0//EN
X-WR-TIMEZONE:America/Chicago
BEGIN:VTIMEZONE
TZID:US/Central
X-LIC-LOCATION:America/Chicago
BEGIN:DAYLIGHT
TZOFFSETFROM:-0600
TZOFFSETTO:-0500
TZNAME:CDT
DTSTART:19700308T020000
RRULE:FREQ=YEARLY;BYMONTH=3;BYDAY=2SU
END:DAYLIGHT
BEGIN:STANDARD
TZOFFSETFROM:-0500
TZOFFSETTO:-0600
TZNAME:CST
DTSTART:19701101T020000
RRULE:FREQ=YEARLY;BYMONTH=11;BYDAY=1SU
END:STANDARD
END:VTIMEZONE
BEGIN:VEVENT
DTSTART;TZID=US/Central:20150519T180000
DTEND;VALUE=DATE-TIME;TZID=US/Central:20150519T193000

DTSTAMP:20260420T073500Z
CREATED:20150429T165400Z
LAST-MODIFIED:20150429T165400Z
UID:20150519T180000-20462@law.utexas.edu
SUMMARY:GRADUATION PARTY!
DESCRIPTION:<p>The University of Texas Law Alumni Association
  cordially invites you to its Welcome to the Alumni Association Graduation Party!</p>
  <p>Tuesday, May 19, 2015, 6:00 pm – 7:30 pm
  The Four Seasons Hotel, 98 San Jacinto Blvd.</p>
  <p>The Alumni Association proudly welcomes all Texas Law Class of 2015 graduating students to come celebrate your upcoming graduation on the back lawn of the Four Seasons with good friends and peers!</p>
  <p>Food and drink will be provided. Business casual attire.</p>
  <p>RSVP by Friday, May 15th at <a href="http://law.connect.utexas.edu">http://law.connect.utexas.edu</a></p>\n\nIf you need an accommodation to participate in this event, please contact the event sponsor or the Texas Law Special Events Office at specialevents@law.utexas.edu no later than seven business days prior to the event.
X-ALT-DESC;FMTTYPE=text/html:<p>The University of Texas Law Alumni Association
  cordially invites you to its Welcome to the Alumni Association Graduation Party!</p>
  <p>Tuesday, May 19, 2015, 6:00 pm – 7:30 pm
  The Four Seasons Hotel, 98 San Jacinto Blvd.</p>
  <p>The Alumni Association proudly welcomes all Texas Law Class of 2015 graduating students to come celebrate your upcoming graduation on the back lawn of the Four Seasons with good friends and peers!</p>
  <p>Food and drink will be provided. Business casual attire.</p>
  <p>RSVP by Friday, May 15th at <a href="http://law.connect.utexas.edu">http://law.connect.utexas.edu</a></p><p>If you need an accommodation to participate in this event, please contact the event
                                          event sponsor or the Texas Law Special Events Office at <a href="mailto:specialevents@law.utexas.edu">specialevents@law.utexas.edu</a> no later than seven business days prior to the event.</p>
CATEGORIES:Reception

URL:http://law.utexas.edu/calendar/2015/05/19/20462/
CLASS:PUBLIC
STATUS:CONFIRMED

END:VEVENT
END:VCALENDAR