BEGIN:VCALENDAR
VERSION:2.0
PRODID:-//UNIVERSITY OF TEXAS SCHOOL OF LAW//NONSGML Events Calendar v1.0//EN
X-WR-TIMEZONE:America/Chicago
BEGIN:VTIMEZONE
TZID:US/Central
X-LIC-LOCATION:America/Chicago
BEGIN:DAYLIGHT
TZOFFSETFROM:-0600
TZOFFSETTO:-0500
TZNAME:CDT
DTSTART:19700308T020000
RRULE:FREQ=YEARLY;BYMONTH=3;BYDAY=2SU
END:DAYLIGHT
BEGIN:STANDARD
TZOFFSETFROM:-0500
TZOFFSETTO:-0600
TZNAME:CST
DTSTART:19701101T020000
RRULE:FREQ=YEARLY;BYMONTH=11;BYDAY=1SU
END:STANDARD
END:VTIMEZONE
BEGIN:VEVENT
DTSTART;TZID=US/Central:20150521T120000


DTSTAMP:20260420T085900Z
CREATED:20150430T143400Z
LAST-MODIFIED:20150430T143400Z
UID:20150521T120000-20467@law.utexas.edu
SUMMARY:McAllen Alumni Lunch
DESCRIPTION:<p>McAllen Alumni Luncheon</p>
  <p>Thursday, May 21, 2015, 12:00 noon
  McAllen Country Club 
  615 Wichita Avenue
  McAllen, Texas</p>
  <p>Please register by May 18 at <a href="http://law.connect.utexas.edu/MCA15">http://law.connect.utexas.edu/MCA15</a></p>\n\nIf you need an accommodation to participate in this event, please contact the event sponsor or the Texas Law Special Events Office at specialevents@law.utexas.edu no later than seven business days prior to the event.
X-ALT-DESC;FMTTYPE=text/html:<p>McAllen Alumni Luncheon</p>
  <p>Thursday, May 21, 2015, 12:00 noon
  McAllen Country Club 
  615 Wichita Avenue
  McAllen, Texas</p>
  <p>Please register by May 18 at <a href="http://law.connect.utexas.edu/MCA15">http://law.connect.utexas.edu/MCA15</a></p><p>If you need an accommodation to participate in this event, please contact the event
                                          event sponsor or the Texas Law Special Events Office at <a href="mailto:specialevents@law.utexas.edu">specialevents@law.utexas.edu</a> no later than seven business days prior to the event.</p>
CATEGORIES:Lunch

URL:http://law.utexas.edu/calendar/2015/05/21/20467/
CLASS:PUBLIC
STATUS:CONFIRMED

END:VEVENT
END:VCALENDAR