BEGIN:VCALENDAR
VERSION:2.0
PRODID:-//UNIVERSITY OF TEXAS SCHOOL OF LAW//NONSGML Events Calendar v1.0//EN
X-WR-TIMEZONE:America/Chicago
BEGIN:VTIMEZONE
TZID:US/Central
X-LIC-LOCATION:America/Chicago
BEGIN:DAYLIGHT
TZOFFSETFROM:-0600
TZOFFSETTO:-0500
TZNAME:CDT
DTSTART:19700308T020000
RRULE:FREQ=YEARLY;BYMONTH=3;BYDAY=2SU
END:DAYLIGHT
BEGIN:STANDARD
TZOFFSETFROM:-0500
TZOFFSETTO:-0600
TZNAME:CST
DTSTART:19701101T020000
RRULE:FREQ=YEARLY;BYMONTH=11;BYDAY=1SU
END:STANDARD
END:VTIMEZONE
BEGIN:VEVENT
DTSTART;TZID=US/Central:20150609T180000
DTEND;VALUE=DATE-TIME;TZID=US/Central:20150609T190000

DTSTAMP:20260420T051500Z
CREATED:20150430T144300Z
LAST-MODIFIED:20150430T144900Z
UID:20150609T180000-20469@law.utexas.edu
SUMMARY:East Texas Alumni Dinner
DESCRIPTION:<p>The University of Texas School of Law
  Third-Annual East Texas Alumni Dinner
  Hosted by Jim Perkins, ’63
  with Dean Ward Farnsworth and Regent and Distinguished Trial Lawyer, David Beck, ’65</p>
  <p>Tuesday, June 9, 2015
  Reception 6:00 p.m.
  Dinner 7:00 p.m.</p>
  <p>R. Don Cowan Fine &amp; Performing Arts Center
  Jack and Dorothy Fay White Lobby
  The University of Texas at Tyler
  3900 University Boulevard
  Tyler, Texas</p>
  <p>Registration opens soon</p>\n\nIf you need an accommodation to participate in this event, please contact the event sponsor or the Texas Law Special Events Office at specialevents@law.utexas.edu no later than seven business days prior to the event.
X-ALT-DESC;FMTTYPE=text/html:<p>The University of Texas School of Law
  Third-Annual East Texas Alumni Dinner
  Hosted by Jim Perkins, ’63
  with Dean Ward Farnsworth and Regent and Distinguished Trial Lawyer, David Beck, ’65</p>
  <p>Tuesday, June 9, 2015
  Reception 6:00 p.m.
  Dinner 7:00 p.m.</p>
  <p>R. Don Cowan Fine &amp; Performing Arts Center
  Jack and Dorothy Fay White Lobby
  The University of Texas at Tyler
  3900 University Boulevard
  Tyler, Texas</p>
  <p>Registration opens soon</p><p>If you need an accommodation to participate in this event, please contact the event
                                          event sponsor or the Texas Law Special Events Office at <a href="mailto:specialevents@law.utexas.edu">specialevents@law.utexas.edu</a> no later than seven business days prior to the event.</p>
CATEGORIES:Dinner

URL:http://law.utexas.edu/calendar/2015/06/09/20469/
CLASS:PUBLIC
STATUS:CONFIRMED

END:VEVENT
END:VCALENDAR