BEGIN:VCALENDAR
VERSION:2.0
PRODID:-//UNIVERSITY OF TEXAS SCHOOL OF LAW//NONSGML Events Calendar v1.0//EN
X-WR-TIMEZONE:America/Chicago
BEGIN:VTIMEZONE
TZID:US/Central
X-LIC-LOCATION:America/Chicago
BEGIN:DAYLIGHT
TZOFFSETFROM:-0600
TZOFFSETTO:-0500
TZNAME:CDT
DTSTART:19700308T020000
RRULE:FREQ=YEARLY;BYMONTH=3;BYDAY=2SU
END:DAYLIGHT
BEGIN:STANDARD
TZOFFSETFROM:-0500
TZOFFSETTO:-0600
TZNAME:CST
DTSTART:19701101T020000
RRULE:FREQ=YEARLY;BYMONTH=11;BYDAY=1SU
END:STANDARD
END:VTIMEZONE
BEGIN:VEVENT
DTSTART;TZID=US/Central:20150624T173000
DTEND;VALUE=DATE-TIME;TZID=US/Central:20150624T190000

DTSTAMP:20260420T051500Z
CREATED:20150430T145600Z
LAST-MODIFIED:20150430T145600Z
UID:20150624T173000-20471@law.utexas.edu
SUMMARY:Houston Summer Associates Reception
DESCRIPTION:<p>Wednesday, June 24, 2015, 5:30-7:00 p.m.</p>
  <p>Watkins, Nichols, Sorrels &amp; Friend
  800 Commerce Street
  Houston, Texas
  </p>\n\nIf you need an accommodation to participate in this event, please contact the event sponsor or the Texas Law Special Events Office at specialevents@law.utexas.edu no later than seven business days prior to the event.
X-ALT-DESC;FMTTYPE=text/html:<p>Wednesday, June 24, 2015, 5:30-7:00 p.m.</p>
  <p>Watkins, Nichols, Sorrels &amp; Friend
  800 Commerce Street
  Houston, Texas
  </p><p>If you need an accommodation to participate in this event, please contact the event
                                          event sponsor or the Texas Law Special Events Office at <a href="mailto:specialevents@law.utexas.edu">specialevents@law.utexas.edu</a> no later than seven business days prior to the event.</p>
CATEGORIES:Reception

URL:http://law.utexas.edu/calendar/2015/06/24/20471/
CLASS:PUBLIC
STATUS:CONFIRMED

END:VEVENT
END:VCALENDAR