BEGIN:VCALENDAR
VERSION:2.0
PRODID:-//UNIVERSITY OF TEXAS SCHOOL OF LAW//NONSGML Events Calendar v1.0//EN
X-WR-TIMEZONE:America/Chicago
BEGIN:VTIMEZONE
TZID:US/Central
X-LIC-LOCATION:America/Chicago
BEGIN:DAYLIGHT
TZOFFSETFROM:-0600
TZOFFSETTO:-0500
TZNAME:CDT
DTSTART:19700308T020000
RRULE:FREQ=YEARLY;BYMONTH=3;BYDAY=2SU
END:DAYLIGHT
BEGIN:STANDARD
TZOFFSETFROM:-0500
TZOFFSETTO:-0600
TZNAME:CST
DTSTART:19701101T020000
RRULE:FREQ=YEARLY;BYMONTH=11;BYDAY=1SU
END:STANDARD
END:VTIMEZONE
BEGIN:VEVENT
DTSTART;TZID=US/Central:20150709


DTSTAMP:20260420T050600Z
CREATED:20150701T214900Z
LAST-MODIFIED:20150708T210800Z
UID:20150709T000000-20743@law.utexas.edu
SUMMARY:Fall OCI: Bidding Period Closes
DESCRIPTION:<p>BIDDING DEADLINE EXTENDED to 12 NOON (Central). Rising second- and third-year students and alumni up to one year after graduation are eligible to participate in <a title="Fall On-Campus Interviews" href="https://www.utexas.edu/law/career/oci/index.html">Fall On-Campus Interviews</a> per employer requests. Online bidding period ends today at noon (Central) on <a title="UT Law Symplicity" href="https://law-utexas-csm.symplicity.com/students/">Symplicity</a>.</p>\n\nIf you need an accommodation to participate in this event, please contact the event sponsor or the Texas Law Special Events Office at specialevents@law.utexas.edu no later than seven business days prior to the event.
X-ALT-DESC;FMTTYPE=text/html:<p>BIDDING DEADLINE EXTENDED to 12 NOON (Central). Rising second- and third-year students and alumni up to one year after graduation are eligible to participate in <a title="Fall On-Campus Interviews" href="https://www.utexas.edu/law/career/oci/index.html">Fall On-Campus Interviews</a> per employer requests. Online bidding period ends today at noon (Central) on <a title="UT Law Symplicity" href="https://law-utexas-csm.symplicity.com/students/">Symplicity</a>.</p><p>If you need an accommodation to participate in this event, please contact the event
                                          event sponsor or the Texas Law Special Events Office at <a href="mailto:specialevents@law.utexas.edu">specialevents@law.utexas.edu</a> no later than seven business days prior to the event.</p>
CATEGORIES:Interview Program

URL:http://law.utexas.edu/calendar/2015/07/09/20743/
CLASS:PUBLIC
STATUS:CONFIRMED
COMMENT:Please contact Sandra Puga, On-Campus Interview Coordinator, at 512-232-1161 or <a href="mailto:spuga@law.utexas.edu">spuga@law.utexas.edu</a>.
END:VEVENT
END:VCALENDAR