BEGIN:VCALENDAR
VERSION:2.0
PRODID:-//UNIVERSITY OF TEXAS SCHOOL OF LAW//NONSGML Events Calendar v1.0//EN
X-WR-TIMEZONE:America/Chicago
BEGIN:VTIMEZONE
TZID:US/Central
X-LIC-LOCATION:America/Chicago
BEGIN:DAYLIGHT
TZOFFSETFROM:-0600
TZOFFSETTO:-0500
TZNAME:CDT
DTSTART:19700308T020000
RRULE:FREQ=YEARLY;BYMONTH=3;BYDAY=2SU
END:DAYLIGHT
BEGIN:STANDARD
TZOFFSETFROM:-0500
TZOFFSETTO:-0600
TZNAME:CST
DTSTART:19701101T020000
RRULE:FREQ=YEARLY;BYMONTH=11;BYDAY=1SU
END:STANDARD
END:VTIMEZONE
BEGIN:VEVENT
DTSTART;TZID=US/Central:20150722T113000
DTEND;VALUE=DATE-TIME;TZID=US/Central:20150722T130000

DTSTAMP:20260420T033600Z
CREATED:20150625T204800Z
LAST-MODIFIED:20150625T204800Z
UID:20150722T113000-20689@law.utexas.edu
SUMMARY:Center for Women in Law
DESCRIPTION:<p>Dean Ward Farnsworth
  and
  Executive Director Linda Chanow of the Center for Women in Law
  invite you to learn about how the Center
  is working to advance women in the profession
  Sheppard, Mullin, Richter &amp; Hampton LLP
  333 South Hope Street, 43rd Floor
  Los Angeles, CA 90071
  </p>\n\nIf you need an accommodation to participate in this event, please contact the event sponsor or the Texas Law Special Events Office at specialevents@law.utexas.edu no later than seven business days prior to the event.
X-ALT-DESC;FMTTYPE=text/html:<p>Dean Ward Farnsworth
  and
  Executive Director Linda Chanow of the Center for Women in Law
  invite you to learn about how the Center
  is working to advance women in the profession
  Sheppard, Mullin, Richter &amp; Hampton LLP
  333 South Hope Street, 43rd Floor
  Los Angeles, CA 90071
  </p><p>If you need an accommodation to participate in this event, please contact the event
                                          event sponsor or the Texas Law Special Events Office at <a href="mailto:specialevents@law.utexas.edu">specialevents@law.utexas.edu</a> no later than seven business days prior to the event.</p>
CATEGORIES:Panel Discussion / Speaker Series

URL:http://law.utexas.edu/calendar/2015/07/22/20689/
CLASS:PUBLIC
STATUS:CONFIRMED

END:VEVENT
END:VCALENDAR