BEGIN:VCALENDAR
VERSION:2.0
PRODID:-//UNIVERSITY OF TEXAS SCHOOL OF LAW//NONSGML Events Calendar v1.0//EN
X-WR-TIMEZONE:America/Chicago
BEGIN:VTIMEZONE
TZID:US/Central
X-LIC-LOCATION:America/Chicago
BEGIN:DAYLIGHT
TZOFFSETFROM:-0600
TZOFFSETTO:-0500
TZNAME:CDT
DTSTART:19700308T020000
RRULE:FREQ=YEARLY;BYMONTH=3;BYDAY=2SU
END:DAYLIGHT
BEGIN:STANDARD
TZOFFSETFROM:-0500
TZOFFSETTO:-0600
TZNAME:CST
DTSTART:19701101T020000
RRULE:FREQ=YEARLY;BYMONTH=11;BYDAY=1SU
END:STANDARD
END:VTIMEZONE
BEGIN:VEVENT
DTSTART;TZID=US/Central:20150729T210000


DTSTAMP:20260420T045700Z
CREATED:20150701T213700Z
LAST-MODIFIED:20150701T214000Z
UID:20150729T210000-20741@law.utexas.edu
SUMMARY:Mock Interview Week – Signup Begins
DESCRIPTION:<p>Improve your interviewing skills and receive feedback prior to Fall OCI by practicing with a CSO Career Counselor. Students will be able to schedule a 30-minute, in-person mock interview via <a href="https://law-utexas-csm.symplicity.com/students/">Symplicity</a>. <strong>Sign up is on a first-come, first-served basis and will begin at 9:00 p.m. (Central) in the evening on Wednesday, July 29</strong>, and close at noon on Friday, July 31, 2015. There are a limited number of slots available so be sure to secure a spot early!</p>
  <p>For complete instructions on how to submit your resume and select a mock interview time slot, please visit the <a href="http://www.utexas.edu/law/career/resources/mock-interview-week.html">Mock Interview Week</a> webpage.</p>\n\nIf you need an accommodation to participate in this event, please contact the event sponsor or the Texas Law Special Events Office at specialevents@law.utexas.edu no later than seven business days prior to the event.
X-ALT-DESC;FMTTYPE=text/html:<p>Improve your interviewing skills and receive feedback prior to Fall OCI by practicing with a CSO Career Counselor. Students will be able to schedule a 30-minute, in-person mock interview via <a href="https://law-utexas-csm.symplicity.com/students/">Symplicity</a>. <strong>Sign up is on a first-come, first-served basis and will begin at 9:00 p.m. (Central) in the evening on Wednesday, July 29</strong>, and close at noon on Friday, July 31, 2015. There are a limited number of slots available so be sure to secure a spot early!</p>
  <p>For complete instructions on how to submit your resume and select a mock interview time slot, please visit the <a href="http://www.utexas.edu/law/career/resources/mock-interview-week.html">Mock Interview Week</a> webpage.</p><p>If you need an accommodation to participate in this event, please contact the event
                                          event sponsor or the Texas Law Special Events Office at <a href="mailto:specialevents@law.utexas.edu">specialevents@law.utexas.edu</a> no later than seven business days prior to the event.</p>


URL:http://law.utexas.edu/calendar/2015/07/29/20741/
CLASS:PUBLIC
STATUS:CONFIRMED
COMMENT:Please contact SooYeon Kim, Resource Coordinator, at 512-232-1150 or <a href="mailto:skim@law.utexas.edu">skim@law.utexas.edu</a>.
END:VEVENT
END:VCALENDAR