BEGIN:VCALENDAR
VERSION:2.0
PRODID:-//UNIVERSITY OF TEXAS SCHOOL OF LAW//NONSGML Events Calendar v1.0//EN
X-WR-TIMEZONE:America/Chicago
BEGIN:VTIMEZONE
TZID:US/Central
X-LIC-LOCATION:America/Chicago
BEGIN:DAYLIGHT
TZOFFSETFROM:-0600
TZOFFSETTO:-0500
TZNAME:CDT
DTSTART:19700308T020000
RRULE:FREQ=YEARLY;BYMONTH=3;BYDAY=2SU
END:DAYLIGHT
BEGIN:STANDARD
TZOFFSETFROM:-0500
TZOFFSETTO:-0600
TZNAME:CST
DTSTART:19701101T020000
RRULE:FREQ=YEARLY;BYMONTH=11;BYDAY=1SU
END:STANDARD
END:VTIMEZONE
BEGIN:VEVENT
DTSTART;TZID=US/Central:20150731T083000
DTEND;VALUE=DATE-TIME;TZID=US/Central:20150731T123000

DTSTAMP:20260420T022100Z
CREATED:20150223T203600Z
LAST-MODIFIED:20150729T142700Z
UID:20150731T083000-20234@law.utexas.edu
SUMMARY:Yes! And...Applied Improv for Mediators
DESCRIPTION:<p>This half-day workshop will focus on comparing mediation and improv perspectives and objectives, and the focus of both disciplines on "getting to yes." The program is intended to offer fresh, and sometimes unconventional, insights on how we can improve mediation skills by understanding the basic components and exercises of improv training. </p>
  <p>This workshop is highly interactive and we create a safe environment for participants. This interactive program will explore improv techniques to help mediators and others improve their skills to engage in conflict resolution. Mediators will also learn techniques they can teach to people involved in mediation. 
  </p>\n\nIf you need an accommodation to participate in this event, please contact the event sponsor or the Texas Law Special Events Office at specialevents@law.utexas.edu no later than seven business days prior to the event.
X-ALT-DESC;FMTTYPE=text/html:<p>This half-day workshop will focus on comparing mediation and improv perspectives and objectives, and the focus of both disciplines on "getting to yes." The program is intended to offer fresh, and sometimes unconventional, insights on how we can improve mediation skills by understanding the basic components and exercises of improv training. </p>
  <p>This workshop is highly interactive and we create a safe environment for participants. This interactive program will explore improv techniques to help mediators and others improve their skills to engage in conflict resolution. Mediators will also learn techniques they can teach to people involved in mediation. 
  </p><p>If you need an accommodation to participate in this event, please contact the event
                                          event sponsor or the Texas Law Special Events Office at <a href="mailto:specialevents@law.utexas.edu">specialevents@law.utexas.edu</a> no later than seven business days prior to the event.</p>
CATEGORIES:Workshop / Training Program
LOCATION:TNH 2.111 - Sheffield-Massey Room
URL:http://law.utexas.edu/calendar/2015/07/31/20234/
CLASS:PUBLIC
STATUS:CONFIRMED
COMMENT:http://www.utexas.edu/law/centers/cppdr/training/calendar.php
END:VEVENT
END:VCALENDAR