BEGIN:VCALENDAR
VERSION:2.0
PRODID:-//UNIVERSITY OF TEXAS SCHOOL OF LAW//NONSGML Events Calendar v1.0//EN
X-WR-TIMEZONE:America/Chicago
BEGIN:VTIMEZONE
TZID:US/Central
X-LIC-LOCATION:America/Chicago
BEGIN:DAYLIGHT
TZOFFSETFROM:-0600
TZOFFSETTO:-0500
TZNAME:CDT
DTSTART:19700308T020000
RRULE:FREQ=YEARLY;BYMONTH=3;BYDAY=2SU
END:DAYLIGHT
BEGIN:STANDARD
TZOFFSETFROM:-0500
TZOFFSETTO:-0600
TZNAME:CST
DTSTART:19701101T020000
RRULE:FREQ=YEARLY;BYMONTH=11;BYDAY=1SU
END:STANDARD
END:VTIMEZONE
BEGIN:VEVENT
DTSTART;TZID=US/Central:20150825T180000


DTSTAMP:20260420T045000Z
CREATED:20150726T201100Z
LAST-MODIFIED:20150726T201100Z
UID:20150825T180000-20842@law.utexas.edu
SUMMARY:ELS &amp; SALDF Welcome Event!
DESCRIPTION:<p>Please join the Environmental Law Society and the Student Animal Legal Defense Fund Chapter for cupcakes, cookies, lemonade, and other treats outside in the law school breezeway! New and past members will be in attendance to welcome and mingle with incoming students. Everyone's welcome. </p>
  <p>For any questions please email us at els.texas.law@gmail.com and/or saldf.texas.law@gmail.com</p>\n\nIf you need an accommodation to participate in this event, please contact the event sponsor or the Texas Law Special Events Office at specialevents@law.utexas.edu no later than seven business days prior to the event.
X-ALT-DESC;FMTTYPE=text/html:<p>Please join the Environmental Law Society and the Student Animal Legal Defense Fund Chapter for cupcakes, cookies, lemonade, and other treats outside in the law school breezeway! New and past members will be in attendance to welcome and mingle with incoming students. Everyone's welcome. </p>
  <p>For any questions please email us at els.texas.law@gmail.com and/or saldf.texas.law@gmail.com</p><p>If you need an accommodation to participate in this event, please contact the event
                                          event sponsor or the Texas Law Special Events Office at <a href="mailto:specialevents@law.utexas.edu">specialevents@law.utexas.edu</a> no later than seven business days prior to the event.</p>
CATEGORIES:Other
LOCATION:Lawschool Breezeway
URL:http://law.utexas.edu/calendar/2015/08/25/20842/
CLASS:PUBLIC
STATUS:CONFIRMED
COMMENT:Email us at els.texas.law@gmail.com  and/or saldf.texas.law@gmail.com
END:VEVENT
END:VCALENDAR