BEGIN:VCALENDAR
VERSION:2.0
PRODID:-//UNIVERSITY OF TEXAS SCHOOL OF LAW//NONSGML Events Calendar v1.0//EN
X-WR-TIMEZONE:America/Chicago
BEGIN:VTIMEZONE
TZID:US/Central
X-LIC-LOCATION:America/Chicago
BEGIN:DAYLIGHT
TZOFFSETFROM:-0600
TZOFFSETTO:-0500
TZNAME:CDT
DTSTART:19700308T020000
RRULE:FREQ=YEARLY;BYMONTH=3;BYDAY=2SU
END:DAYLIGHT
BEGIN:STANDARD
TZOFFSETFROM:-0500
TZOFFSETTO:-0600
TZNAME:CST
DTSTART:19701101T020000
RRULE:FREQ=YEARLY;BYMONTH=11;BYDAY=1SU
END:STANDARD
END:VTIMEZONE
BEGIN:VEVENT
DTSTART;TZID=US/Central:20150825T190000
DTEND;VALUE=DATE-TIME;TZID=US/Central:20150825T203000

DTSTAMP:20260420T034200Z
CREATED:20150811T173500Z
LAST-MODIFIED:20150811T173500Z
UID:20150825T190000-20937@law.utexas.edu
SUMMARY:Gone to Texas Ice Cream Social
DESCRIPTION:<p>All students are welcome to join the Student Affairs Office for an ice cream social before the Gone to Texas festivities at the Tower.</p>\n\nIf you need an accommodation to participate in this event, please contact the event sponsor or the Texas Law Special Events Office at specialevents@law.utexas.edu no later than seven business days prior to the event.
X-ALT-DESC;FMTTYPE=text/html:<p>All students are welcome to join the Student Affairs Office for an ice cream social before the Gone to Texas festivities at the Tower.</p><p>If you need an accommodation to participate in this event, please contact the event
                                          event sponsor or the Texas Law Special Events Office at <a href="mailto:specialevents@law.utexas.edu">specialevents@law.utexas.edu</a> no later than seven business days prior to the event.</p>

LOCATION:Courtyard and Breezeway
URL:http://law.utexas.edu/calendar/2015/08/25/20937/
CLASS:PUBLIC
STATUS:CONFIRMED

END:VEVENT
END:VCALENDAR