BEGIN:VCALENDAR
VERSION:2.0
PRODID:-//UNIVERSITY OF TEXAS SCHOOL OF LAW//NONSGML Events Calendar v1.0//EN
X-WR-TIMEZONE:America/Chicago
BEGIN:VTIMEZONE
TZID:US/Central
X-LIC-LOCATION:America/Chicago
BEGIN:DAYLIGHT
TZOFFSETFROM:-0600
TZOFFSETTO:-0500
TZNAME:CDT
DTSTART:19700308T020000
RRULE:FREQ=YEARLY;BYMONTH=3;BYDAY=2SU
END:DAYLIGHT
BEGIN:STANDARD
TZOFFSETFROM:-0500
TZOFFSETTO:-0600
TZNAME:CST
DTSTART:19701101T020000
RRULE:FREQ=YEARLY;BYMONTH=11;BYDAY=1SU
END:STANDARD
END:VTIMEZONE
BEGIN:VEVENT
DTSTART;TZID=US/Central:20151018T120000
DTEND;VALUE=DATE-TIME;TZID=US/Central:20151018T160000

DTSTAMP:20260419T235100Z
CREATED:20150928T165000Z
LAST-MODIFIED:20150928T165000Z
UID:20151018T120000-21325@law.utexas.edu
SUMMARY:Exam-Taking Strategies Workshop
DESCRIPTION:<p>TMLS is hosting a free exam workshop open to all 1Ls on Sunday, October 18, from 12PM to 4PM in TNH 2.139. The workshop is hosted by the Thurgood Marshall Legal Society and will cover exam strategies, including how to effectively manage time during exams, dissect exam fact patterns and questions, and identify and frame relevant issues. A V&amp;E attorney will kick off the workshop, and lunch will be served. Special Thanks to V&amp;E and Barbri.</p>
  <p>Please register through UT Law Symplicity by selecting the "Events" tab.</p>\n\nIf you need an accommodation to participate in this event, please contact the event sponsor or the Texas Law Special Events Office at specialevents@law.utexas.edu no later than seven business days prior to the event.
X-ALT-DESC;FMTTYPE=text/html:<p>TMLS is hosting a free exam workshop open to all 1Ls on Sunday, October 18, from 12PM to 4PM in TNH 2.139. The workshop is hosted by the Thurgood Marshall Legal Society and will cover exam strategies, including how to effectively manage time during exams, dissect exam fact patterns and questions, and identify and frame relevant issues. A V&amp;E attorney will kick off the workshop, and lunch will be served. Special Thanks to V&amp;E and Barbri.</p>
  <p>Please register through UT Law Symplicity by selecting the "Events" tab.</p><p>If you need an accommodation to participate in this event, please contact the event
                                          event sponsor or the Texas Law Special Events Office at <a href="mailto:specialevents@law.utexas.edu">specialevents@law.utexas.edu</a> no later than seven business days prior to the event.</p>
CATEGORIES:Workshop / Training Program
LOCATION:TNH 2.139 - Wilson Classroom
URL:http://law.utexas.edu/calendar/2015/10/18/21325/
CLASS:PUBLIC
STATUS:CONFIRMED

END:VEVENT
END:VCALENDAR