BEGIN:VCALENDAR
VERSION:2.0
PRODID:-//UNIVERSITY OF TEXAS SCHOOL OF LAW//NONSGML Events Calendar v1.0//EN
X-WR-TIMEZONE:America/Chicago
BEGIN:VTIMEZONE
TZID:US/Central
X-LIC-LOCATION:America/Chicago
BEGIN:DAYLIGHT
TZOFFSETFROM:-0600
TZOFFSETTO:-0500
TZNAME:CDT
DTSTART:19700308T020000
RRULE:FREQ=YEARLY;BYMONTH=3;BYDAY=2SU
END:DAYLIGHT
BEGIN:STANDARD
TZOFFSETFROM:-0500
TZOFFSETTO:-0600
TZNAME:CST
DTSTART:19701101T020000
RRULE:FREQ=YEARLY;BYMONTH=11;BYDAY=1SU
END:STANDARD
END:VTIMEZONE
BEGIN:VEVENT
DTSTART;TZID=US/Central:20151019T114500
DTEND;VALUE=DATE-TIME;TZID=US/Central:20151019T124500

DTSTAMP:20260419T223400Z
CREATED:20150713T144300Z
LAST-MODIFIED:20151019T143800Z
UID:20151019T114500-20796@law.utexas.edu
SUMMARY:How to Land a Federal Internship
DESCRIPTION:<p>Are you a 1L or 2L interested in summer internship opportunities with the federal government? Come hear from a panel of 2Ls who spent their 1L summer interning with federal agencies discuss everything from the pros/cons of working for the federal government to the nitty gritty of the application process. The panel discussion will focus on 1L summer opportunities and summer volunteer opportunities for 2Ls. Panelists include:
  Jennifer Boshakova, 2L, U.S. Securities and Exchange Commission, New York, NY; Katelin Cox, 2L, U.S. Attorney’s Office for the Southern District of Texas; Matthew Drecun, 2L, U.S. Department of Justice, Civil Rights Division; David Goode, 2L, U.S. Department of Justice, Environment and Natural Resources Division; Eric Manpearl, 2L, U.S. Department of Justice, Office of Legal Policy</p>
  <p>RSVP by Friday, October 16, on <a href="https://law-utexas-csm.symplicity.com/students/">Symplicity</a> by selecting the "Events" tab.</p>\n\nIf you need an accommodation to participate in this event, please contact the event sponsor or the Texas Law Special Events Office at specialevents@law.utexas.edu no later than seven business days prior to the event.
X-ALT-DESC;FMTTYPE=text/html:<p>Are you a 1L or 2L interested in summer internship opportunities with the federal government? Come hear from a panel of 2Ls who spent their 1L summer interning with federal agencies discuss everything from the pros/cons of working for the federal government to the nitty gritty of the application process. The panel discussion will focus on 1L summer opportunities and summer volunteer opportunities for 2Ls. Panelists include:
  Jennifer Boshakova, 2L, U.S. Securities and Exchange Commission, New York, NY; Katelin Cox, 2L, U.S. Attorney’s Office for the Southern District of Texas; Matthew Drecun, 2L, U.S. Department of Justice, Civil Rights Division; David Goode, 2L, U.S. Department of Justice, Environment and Natural Resources Division; Eric Manpearl, 2L, U.S. Department of Justice, Office of Legal Policy</p>
  <p>RSVP by Friday, October 16, on <a href="https://law-utexas-csm.symplicity.com/students/">Symplicity</a> by selecting the "Events" tab.</p><p>If you need an accommodation to participate in this event, please contact the event
                                          event sponsor or the Texas Law Special Events Office at <a href="mailto:specialevents@law.utexas.edu">specialevents@law.utexas.edu</a> no later than seven business days prior to the event.</p>
CATEGORIES:Workshop / Training Program
LOCATION:CCJ 2.306 - Eidman Courtroom
URL:http://law.utexas.edu/calendar/2015/10/19/20796/
CLASS:PUBLIC
STATUS:CONFIRMED
COMMENT:Please contact Denyse Demel, Government Career Counselor, at 512-232-1162 or <a href="mailto:ddemel@law.utexas.edu">ddemel@law.utexas.edu</a>.
END:VEVENT
END:VCALENDAR