BEGIN:VCALENDAR
VERSION:2.0
PRODID:-//UNIVERSITY OF TEXAS SCHOOL OF LAW//NONSGML Events Calendar v1.0//EN
X-WR-TIMEZONE:America/Chicago
BEGIN:VTIMEZONE
TZID:US/Central
X-LIC-LOCATION:America/Chicago
BEGIN:DAYLIGHT
TZOFFSETFROM:-0600
TZOFFSETTO:-0500
TZNAME:CDT
DTSTART:19700308T020000
RRULE:FREQ=YEARLY;BYMONTH=3;BYDAY=2SU
END:DAYLIGHT
BEGIN:STANDARD
TZOFFSETFROM:-0500
TZOFFSETTO:-0600
TZNAME:CST
DTSTART:19701101T020000
RRULE:FREQ=YEARLY;BYMONTH=11;BYDAY=1SU
END:STANDARD
END:VTIMEZONE
BEGIN:VEVENT
DTSTART;TZID=US/Central:20151020T120000
DTEND;VALUE=DATE-TIME;TZID=US/Central:20151020T130000

DTSTAMP:20260419T223400Z
CREATED:20150701T172600Z
LAST-MODIFIED:20150904T203600Z
UID:20151020T120000-20704@law.utexas.edu
SUMMARY:Intro to Public Service Law
DESCRIPTION:<p>Are you interested in possibly pursuing a career in public service? Come learn about law practice in the public sector. Panelists will discuss their experiences as summer interns and staff attorneys with government and public interest organizations across the country. They will also share strategies and advice for obtaining similar positions. Panelists TBD. Moderated by Nicole Simmons and Denyse Demel of the CSO. Lunch will be served.</p>
  <p>RSVP by Monday, October 19, on <a href="https://law-utexas-csm.symplicity.com/students/">Symplicity</a> by selecting the "Events" tab.</p>\n\nIf you need an accommodation to participate in this event, please contact the event sponsor or the Texas Law Special Events Office at specialevents@law.utexas.edu no later than seven business days prior to the event.
X-ALT-DESC;FMTTYPE=text/html:<p>Are you interested in possibly pursuing a career in public service? Come learn about law practice in the public sector. Panelists will discuss their experiences as summer interns and staff attorneys with government and public interest organizations across the country. They will also share strategies and advice for obtaining similar positions. Panelists TBD. Moderated by Nicole Simmons and Denyse Demel of the CSO. Lunch will be served.</p>
  <p>RSVP by Monday, October 19, on <a href="https://law-utexas-csm.symplicity.com/students/">Symplicity</a> by selecting the "Events" tab.</p><p>If you need an accommodation to participate in this event, please contact the event
                                          event sponsor or the Texas Law Special Events Office at <a href="mailto:specialevents@law.utexas.edu">specialevents@law.utexas.edu</a> no later than seven business days prior to the event.</p>
CATEGORIES:Workshop / Training Program
LOCATION:CCJ 2.306 - Eidman Courtroom
URL:http://law.utexas.edu/calendar/2015/10/20/20704/
CLASS:PUBLIC
STATUS:CONFIRMED
COMMENT:Please contact Nicole Simmons, Director of Public Service Programs, at 512-232-1160 or <a href="mailto:nsimmons@law.utexas.edu">nsimmons@law.utexas.edu</a>.
END:VEVENT
END:VCALENDAR