BEGIN:VCALENDAR
VERSION:2.0
PRODID:-//UNIVERSITY OF TEXAS SCHOOL OF LAW//NONSGML Events Calendar v1.0//EN
X-WR-TIMEZONE:America/Chicago
BEGIN:VTIMEZONE
TZID:US/Central
X-LIC-LOCATION:America/Chicago
BEGIN:DAYLIGHT
TZOFFSETFROM:-0600
TZOFFSETTO:-0500
TZNAME:CDT
DTSTART:19700308T020000
RRULE:FREQ=YEARLY;BYMONTH=3;BYDAY=2SU
END:DAYLIGHT
BEGIN:STANDARD
TZOFFSETFROM:-0500
TZOFFSETTO:-0600
TZNAME:CST
DTSTART:19701101T020000
RRULE:FREQ=YEARLY;BYMONTH=11;BYDAY=1SU
END:STANDARD
END:VTIMEZONE
BEGIN:VEVENT
DTSTART;TZID=US/Central:20151020T083000
DTEND;VALUE=DATE-TIME;TZID=US/Central:20151020T103000

DTSTAMP:20260419T235100Z
CREATED:20150929T215300Z
LAST-MODIFIED:20150929T215300Z
UID:20151020T083000-21332@law.utexas.edu
SUMMARY:Jackson Walker LLP Meet &amp; Greet
DESCRIPTION:<p>Jackson Walker LLP invites all law students to join them for breakfast tacos in the Law School Atrium.  Attorney and recruiting personnel will be in attendance to answer questions about the firm on Tuesday, October 20, 2015.  Please be sure to stop by on your way to class.</p>\n\nIf you need an accommodation to participate in this event, please contact the event sponsor or the Texas Law Special Events Office at specialevents@law.utexas.edu no later than seven business days prior to the event.
X-ALT-DESC;FMTTYPE=text/html:<p>Jackson Walker LLP invites all law students to join them for breakfast tacos in the Law School Atrium.  Attorney and recruiting personnel will be in attendance to answer questions about the firm on Tuesday, October 20, 2015.  Please be sure to stop by on your way to class.</p><p>If you need an accommodation to participate in this event, please contact the event
                                          event sponsor or the Texas Law Special Events Office at <a href="mailto:specialevents@law.utexas.edu">specialevents@law.utexas.edu</a> no later than seven business days prior to the event.</p>
CATEGORIES:Breakfast
LOCATION:TNH 2.100 - Susman Godfrey Atrium
URL:http://law.utexas.edu/calendar/2015/10/20/21332/
CLASS:PUBLIC
STATUS:CONFIRMED
COMMENT:https://law.utexas.edu/career/
END:VEVENT
END:VCALENDAR