BEGIN:VCALENDAR
VERSION:2.0
PRODID:-//UNIVERSITY OF TEXAS SCHOOL OF LAW//NONSGML Events Calendar v1.0//EN
X-WR-TIMEZONE:America/Chicago
BEGIN:VTIMEZONE
TZID:US/Central
X-LIC-LOCATION:America/Chicago
BEGIN:DAYLIGHT
TZOFFSETFROM:-0600
TZOFFSETTO:-0500
TZNAME:CDT
DTSTART:19700308T020000
RRULE:FREQ=YEARLY;BYMONTH=3;BYDAY=2SU
END:DAYLIGHT
BEGIN:STANDARD
TZOFFSETFROM:-0500
TZOFFSETTO:-0600
TZNAME:CST
DTSTART:19701101T020000
RRULE:FREQ=YEARLY;BYMONTH=11;BYDAY=1SU
END:STANDARD
END:VTIMEZONE
BEGIN:VEVENT
DTSTART;TZID=US/Central:20151020T180000
DTEND;VALUE=DATE-TIME;TZID=US/Central:20151020T190000

DTSTAMP:20260419T235100Z
CREATED:20151001T174900Z
LAST-MODIFIED:20151001T174900Z
UID:20151020T180000-21346@law.utexas.edu
SUMMARY:TJCLCR Fall Publication Preview
DESCRIPTION:<p>Please join TJCLCR for our Fall Publication Preview with authors from our fall 2015 issue! Light refreshments to follow.  </p>\n\nIf you need an accommodation to participate in this event, please contact the event sponsor or the Texas Law Special Events Office at specialevents@law.utexas.edu no later than seven business days prior to the event.
X-ALT-DESC;FMTTYPE=text/html:<p>Please join TJCLCR for our Fall Publication Preview with authors from our fall 2015 issue! Light refreshments to follow.  </p><p>If you need an accommodation to participate in this event, please contact the event
                                          event sponsor or the Texas Law Special Events Office at <a href="mailto:specialevents@law.utexas.edu">specialevents@law.utexas.edu</a> no later than seven business days prior to the event.</p>

LOCATION:CCJ 2.306 - Eidman Courtroom
URL:http://law.utexas.edu/calendar/2015/10/20/21346/
CLASS:PUBLIC
STATUS:CONFIRMED

END:VEVENT
END:VCALENDAR