BEGIN:VCALENDAR
VERSION:2.0
PRODID:-//UNIVERSITY OF TEXAS SCHOOL OF LAW//NONSGML Events Calendar v1.0//EN
X-WR-TIMEZONE:America/Chicago
BEGIN:VTIMEZONE
TZID:US/Central
X-LIC-LOCATION:America/Chicago
BEGIN:DAYLIGHT
TZOFFSETFROM:-0600
TZOFFSETTO:-0500
TZNAME:CDT
DTSTART:19700308T020000
RRULE:FREQ=YEARLY;BYMONTH=3;BYDAY=2SU
END:DAYLIGHT
BEGIN:STANDARD
TZOFFSETFROM:-0500
TZOFFSETTO:-0600
TZNAME:CST
DTSTART:19701101T020000
RRULE:FREQ=YEARLY;BYMONTH=11;BYDAY=1SU
END:STANDARD
END:VTIMEZONE
BEGIN:VEVENT
DTSTART;TZID=US/Central:20151021T113000
DTEND;VALUE=DATE-TIME;TZID=US/Central:20151021T130000

DTSTAMP:20260420T010600Z
CREATED:20150609T190500Z
LAST-MODIFIED:20151009T162200Z
UID:20151021T113000-20613@law.utexas.edu
SUMMARY:CWIL Power Lunch Series
DESCRIPTION:<p>The Center for Women in Law, through the October Power Lunch Series, seeks to provide students with possible role models and mentors by exposing them to prominent women lawyers and other public figures from a wide range of career paths. Attending students will have the opportunity to ask questions and discuss their own career goals in an informal and interactive environment.</p>
  <p>Series Line-up:</p>
  <p>Tuesday, October 6, 2015: Jane Webre, Partner, Scott, Douglass &amp; McConnico LLP</p>
  <p>Tuesday, October 13, 2015: Judge Micaela Alvarez, United States District Judge, Southern District of Texas</p>
  <p>Wednesday, October 21, 2015: Sandra Phillips, General Counsel and Chief Legal Officer, Toyota Motor North America</p>
  <p>Tuesday, October 27, 2015: Kristi Swartz, Managing Partner (Hong Kong Office), Bryan Cave</p>\n\nIf you need an accommodation to participate in this event, please contact the event sponsor or the Texas Law Special Events Office at specialevents@law.utexas.edu no later than seven business days prior to the event.
X-ALT-DESC;FMTTYPE=text/html:<p>The Center for Women in Law, through the October Power Lunch Series, seeks to provide students with possible role models and mentors by exposing them to prominent women lawyers and other public figures from a wide range of career paths. Attending students will have the opportunity to ask questions and discuss their own career goals in an informal and interactive environment.</p>
  <p>Series Line-up:</p>
  <p>Tuesday, October 6, 2015: Jane Webre, Partner, Scott, Douglass &amp; McConnico LLP</p>
  <p>Tuesday, October 13, 2015: Judge Micaela Alvarez, United States District Judge, Southern District of Texas</p>
  <p>Wednesday, October 21, 2015: Sandra Phillips, General Counsel and Chief Legal Officer, Toyota Motor North America</p>
  <p>Tuesday, October 27, 2015: Kristi Swartz, Managing Partner (Hong Kong Office), Bryan Cave</p><p>If you need an accommodation to participate in this event, please contact the event
                                          event sponsor or the Texas Law Special Events Office at <a href="mailto:specialevents@law.utexas.edu">specialevents@law.utexas.edu</a> no later than seven business days prior to the event.</p>
CATEGORIES:Lunch
LOCATION:TNH 2.140 - Wright Classroom
URL:http://law.utexas.edu/calendar/2015/10/21/20613/
CLASS:PUBLIC
STATUS:CONFIRMED

END:VEVENT
END:VCALENDAR