BEGIN:VCALENDAR
VERSION:2.0
PRODID:-//UNIVERSITY OF TEXAS SCHOOL OF LAW//NONSGML Events Calendar v1.0//EN
X-WR-TIMEZONE:America/Chicago
BEGIN:VTIMEZONE
TZID:US/Central
X-LIC-LOCATION:America/Chicago
BEGIN:DAYLIGHT
TZOFFSETFROM:-0600
TZOFFSETTO:-0500
TZNAME:CDT
DTSTART:19700308T020000
RRULE:FREQ=YEARLY;BYMONTH=3;BYDAY=2SU
END:DAYLIGHT
BEGIN:STANDARD
TZOFFSETFROM:-0500
TZOFFSETTO:-0600
TZNAME:CST
DTSTART:19701101T020000
RRULE:FREQ=YEARLY;BYMONTH=11;BYDAY=1SU
END:STANDARD
END:VTIMEZONE
BEGIN:VEVENT
DTSTART;TZID=US/Central:20151021T120000
DTEND;VALUE=DATE-TIME;TZID=US/Central:20151021T130000

DTSTAMP:20260419T222700Z
CREATED:20150912T031900Z
LAST-MODIFIED:20150918T152000Z
UID:20151021T120000-21211@law.utexas.edu
SUMMARY:Job Search Support Group for 2Ls
DESCRIPTION:<p>Lunch and peer group discussion about the job search process as well as strategies for getting through it productively and positively. CSO counselors will then join us during the end of the session if you have any questions for them. </p>
  <p>RSVP by Tuesday, October 20, on <a href="https://law-utexas-csm.symplicity.com/students/">Symplicity</a> by selecting the "Events" tab.
  </p>\n\nIf you need an accommodation to participate in this event, please contact the event sponsor or the Texas Law Special Events Office at specialevents@law.utexas.edu no later than seven business days prior to the event.
X-ALT-DESC;FMTTYPE=text/html:<p>Lunch and peer group discussion about the job search process as well as strategies for getting through it productively and positively. CSO counselors will then join us during the end of the session if you have any questions for them. </p>
  <p>RSVP by Tuesday, October 20, on <a href="https://law-utexas-csm.symplicity.com/students/">Symplicity</a> by selecting the "Events" tab.
  </p><p>If you need an accommodation to participate in this event, please contact the event
                                          event sponsor or the Texas Law Special Events Office at <a href="mailto:specialevents@law.utexas.edu">specialevents@law.utexas.edu</a> no later than seven business days prior to the event.</p>
CATEGORIES:Lunch
LOCATION:
URL:http://law.utexas.edu/calendar/2015/10/21/21211/
CLASS:PUBLIC
STATUS:CONFIRMED

END:VEVENT
END:VCALENDAR