BEGIN:VCALENDAR
VERSION:2.0
PRODID:-//UNIVERSITY OF TEXAS SCHOOL OF LAW//NONSGML Events Calendar v1.0//EN
X-WR-TIMEZONE:America/Chicago
BEGIN:VTIMEZONE
TZID:US/Central
X-LIC-LOCATION:America/Chicago
BEGIN:DAYLIGHT
TZOFFSETFROM:-0600
TZOFFSETTO:-0500
TZNAME:CDT
DTSTART:19700308T020000
RRULE:FREQ=YEARLY;BYMONTH=3;BYDAY=2SU
END:DAYLIGHT
BEGIN:STANDARD
TZOFFSETFROM:-0500
TZOFFSETTO:-0600
TZNAME:CST
DTSTART:19701101T020000
RRULE:FREQ=YEARLY;BYMONTH=11;BYDAY=1SU
END:STANDARD
END:VTIMEZONE
BEGIN:VEVENT
DTSTART;TZID=US/Central:20151022T120000
DTEND;VALUE=DATE-TIME;TZID=US/Central:20151022T130000

DTSTAMP:20260419T223300Z
CREATED:20151013T000300Z
LAST-MODIFIED:20151013T000300Z
UID:20151022T120000-21389@law.utexas.edu
SUMMARY:Justice Withheld
DESCRIPTION:<p>The Texas Department of State Health Services has denied birth certificates to U.S. citizen children on the border whose parents lack citizenship or legal status.In doing so, the state is punishing the children for the way their parents entered the country. Join Virginia Raymond, an Austin-based civil rights attorney and recipient of the national Woman of Courage award, and the American Constitution Society to discuss the issue and pending litigation.</p>\n\nIf you need an accommodation to participate in this event, please contact the event sponsor or the Texas Law Special Events Office at specialevents@law.utexas.edu no later than seven business days prior to the event.
X-ALT-DESC;FMTTYPE=text/html:<p>The Texas Department of State Health Services has denied birth certificates to U.S. citizen children on the border whose parents lack citizenship or legal status.In doing so, the state is punishing the children for the way their parents entered the country. Join Virginia Raymond, an Austin-based civil rights attorney and recipient of the national Woman of Courage award, and the American Constitution Society to discuss the issue and pending litigation.</p><p>If you need an accommodation to participate in this event, please contact the event
                                          event sponsor or the Texas Law Special Events Office at <a href="mailto:specialevents@law.utexas.edu">specialevents@law.utexas.edu</a> no later than seven business days prior to the event.</p>
CATEGORIES:Lunch
LOCATION:TNH 2.138 - Blanton Classroom
URL:http://law.utexas.edu/calendar/2015/10/22/21389/
CLASS:PUBLIC
STATUS:CONFIRMED

END:VEVENT
END:VCALENDAR