BEGIN:VCALENDAR
VERSION:2.0
PRODID:-//UNIVERSITY OF TEXAS SCHOOL OF LAW//NONSGML Events Calendar v1.0//EN
X-WR-TIMEZONE:America/Chicago
BEGIN:VTIMEZONE
TZID:US/Central
X-LIC-LOCATION:America/Chicago
BEGIN:DAYLIGHT
TZOFFSETFROM:-0600
TZOFFSETTO:-0500
TZNAME:CDT
DTSTART:19700308T020000
RRULE:FREQ=YEARLY;BYMONTH=3;BYDAY=2SU
END:DAYLIGHT
BEGIN:STANDARD
TZOFFSETFROM:-0500
TZOFFSETTO:-0600
TZNAME:CST
DTSTART:19701101T020000
RRULE:FREQ=YEARLY;BYMONTH=11;BYDAY=1SU
END:STANDARD
END:VTIMEZONE
BEGIN:VEVENT
DTSTART;TZID=US/Central:20151022T120000
DTEND;VALUE=DATE-TIME;TZID=US/Central:20151022T130000

DTSTAMP:20260419T223300Z
CREATED:20151014T181200Z
LAST-MODIFIED:20151014T181200Z
UID:20151022T120000-21402@law.utexas.edu
SUMMARY:Info Session on Human Rights Internships
DESCRIPTION:<p>The Rapoport Center for Human Rights and Justice and the Human Rights Law Society invite you to an information session on human rights internships and fellowships. This is a great opportunity to learn about opportunities with human rights organizations as well as international courts and tribunals. Former fellows and interns will share their experiences and will be available to answer questions. Law school faculty will also be on hand to discuss the logistics and merits of these opportunities. Pizza will be provided.</p>\n\nIf you need an accommodation to participate in this event, please contact the event sponsor or the Texas Law Special Events Office at specialevents@law.utexas.edu no later than seven business days prior to the event.
X-ALT-DESC;FMTTYPE=text/html:<p>The Rapoport Center for Human Rights and Justice and the Human Rights Law Society invite you to an information session on human rights internships and fellowships. This is a great opportunity to learn about opportunities with human rights organizations as well as international courts and tribunals. Former fellows and interns will share their experiences and will be available to answer questions. Law school faculty will also be on hand to discuss the logistics and merits of these opportunities. Pizza will be provided.</p><p>If you need an accommodation to participate in this event, please contact the event
                                          event sponsor or the Texas Law Special Events Office at <a href="mailto:specialevents@law.utexas.edu">specialevents@law.utexas.edu</a> no later than seven business days prior to the event.</p>
CATEGORIES:Meeting
LOCATION:TNH 3.127 - Roberts Classroom
URL:http://law.utexas.edu/calendar/2015/10/22/21402/
CLASS:PUBLIC
STATUS:CONFIRMED

END:VEVENT
END:VCALENDAR