BEGIN:VCALENDAR
VERSION:2.0
PRODID:-//UNIVERSITY OF TEXAS SCHOOL OF LAW//NONSGML Events Calendar v1.0//EN
X-WR-TIMEZONE:America/Chicago
BEGIN:VTIMEZONE
TZID:US/Central
X-LIC-LOCATION:America/Chicago
BEGIN:DAYLIGHT
TZOFFSETFROM:-0600
TZOFFSETTO:-0500
TZNAME:CDT
DTSTART:19700308T020000
RRULE:FREQ=YEARLY;BYMONTH=3;BYDAY=2SU
END:DAYLIGHT
BEGIN:STANDARD
TZOFFSETFROM:-0500
TZOFFSETTO:-0600
TZNAME:CST
DTSTART:19701101T020000
RRULE:FREQ=YEARLY;BYMONTH=11;BYDAY=1SU
END:STANDARD
END:VTIMEZONE
BEGIN:VEVENT
DTSTART;TZID=US/Central:20151203T153000
DTEND;VALUE=DATE-TIME;TZID=US/Central:20151203T173000

DTSTAMP:20260419T150500Z
CREATED:20151119T172900Z
LAST-MODIFIED:20151119T172900Z
UID:20151203T153000-21530@law.utexas.edu
SUMMARY:Rapoport Center End-of-Year Party
DESCRIPTION:<p>End-of-year holiday social for Rapoport Center staff, interns, scholars, Affiliated Faculty, and Affiliated Graduate Students on Thursday, December 3, 3:30-5:30 in the Rapoport Center office suite, TNH 3.119. Light refreshments will be served.</p>\n\nIf you need an accommodation to participate in this event, please contact the event sponsor or the Texas Law Special Events Office at specialevents@law.utexas.edu no later than seven business days prior to the event.
X-ALT-DESC;FMTTYPE=text/html:<p>End-of-year holiday social for Rapoport Center staff, interns, scholars, Affiliated Faculty, and Affiliated Graduate Students on Thursday, December 3, 3:30-5:30 in the Rapoport Center office suite, TNH 3.119. Light refreshments will be served.</p><p>If you need an accommodation to participate in this event, please contact the event
                                          event sponsor or the Texas Law Special Events Office at <a href="mailto:specialevents@law.utexas.edu">specialevents@law.utexas.edu</a> no later than seven business days prior to the event.</p>
CATEGORIES:Other
LOCATION:TNH 3.119 (Event will take place in the shared office suite space where our current students workers sit.)
URL:http://law.utexas.edu/calendar/2015/12/03/21530/
CLASS:PUBLIC
STATUS:CONFIRMED
COMMENT:Contact Sarah Cline at scline@law.utexas.edu or (512) 232-1310
END:VEVENT
END:VCALENDAR