BEGIN:VCALENDAR
VERSION:2.0
PRODID:-//UNIVERSITY OF TEXAS SCHOOL OF LAW//NONSGML Events Calendar v1.0//EN
X-WR-TIMEZONE:America/Chicago
BEGIN:VTIMEZONE
TZID:US/Central
X-LIC-LOCATION:America/Chicago
BEGIN:DAYLIGHT
TZOFFSETFROM:-0600
TZOFFSETTO:-0500
TZNAME:CDT
DTSTART:19700308T020000
RRULE:FREQ=YEARLY;BYMONTH=3;BYDAY=2SU
END:DAYLIGHT
BEGIN:STANDARD
TZOFFSETFROM:-0500
TZOFFSETTO:-0600
TZNAME:CST
DTSTART:19701101T020000
RRULE:FREQ=YEARLY;BYMONTH=11;BYDAY=1SU
END:STANDARD
END:VTIMEZONE
BEGIN:VEVENT
DTSTART;TZID=US/Central:20151203T140000
DTEND;VALUE=DATE-TIME;TZID=US/Central:20151203T160000

DTSTAMP:20260419T133100Z
CREATED:20151120T190300Z
LAST-MODIFIED:20151120T190300Z
UID:20151203T140000-21534@law.utexas.edu
SUMMARY:Meeting with UN Working Group
DESCRIPTION:<p>Meeting with UN Working Group on the Issue of Discrimination Against Women in Law and in Practice.  Ariel Dulitzky, Denise Gilman, the students in the Human Rights Clinic, and others, will be present.</p>\n\nIf you need an accommodation to participate in this event, please contact the event sponsor or the Texas Law Special Events Office at specialevents@law.utexas.edu no later than seven business days prior to the event.
X-ALT-DESC;FMTTYPE=text/html:<p>Meeting with UN Working Group on the Issue of Discrimination Against Women in Law and in Practice.  Ariel Dulitzky, Denise Gilman, the students in the Human Rights Clinic, and others, will be present.</p><p>If you need an accommodation to participate in this event, please contact the event
                                          event sponsor or the Texas Law Special Events Office at <a href="mailto:specialevents@law.utexas.edu">specialevents@law.utexas.edu</a> no later than seven business days prior to the event.</p>
CATEGORIES:Meeting
LOCATION:JON 5.257 - Seminar Room
URL:http://law.utexas.edu/calendar/2015/12/03/21534/
CLASS:PUBLIC
STATUS:CONFIRMED

END:VEVENT
END:VCALENDAR