BEGIN:VCALENDAR
VERSION:2.0
PRODID:-//UNIVERSITY OF TEXAS SCHOOL OF LAW//NONSGML Events Calendar v1.0//EN
X-WR-TIMEZONE:America/Chicago
BEGIN:VTIMEZONE
TZID:US/Central
X-LIC-LOCATION:America/Chicago
BEGIN:DAYLIGHT
TZOFFSETFROM:-0600
TZOFFSETTO:-0500
TZNAME:CDT
DTSTART:19700308T020000
RRULE:FREQ=YEARLY;BYMONTH=3;BYDAY=2SU
END:DAYLIGHT
BEGIN:STANDARD
TZOFFSETFROM:-0500
TZOFFSETTO:-0600
TZNAME:CST
DTSTART:19701101T020000
RRULE:FREQ=YEARLY;BYMONTH=11;BYDAY=1SU
END:STANDARD
END:VTIMEZONE
BEGIN:VEVENT
DTSTART;TZID=US/Central:20151209T173000
DTEND;VALUE=DATE-TIME;TZID=US/Central:20151209T193000

DTSTAMP:20260419T150100Z
CREATED:20151120T201600Z
LAST-MODIFIED:20151120T201700Z
UID:20151209T173000-21535@law.utexas.edu
SUMMARY:Dallas Networking Happy Hour
DESCRIPTION:<p>Dallas Networking Happy Hour
  for alumni of
  The University of Texas School of Law
  and McCombs School of Business MBA Program
  Wednesday, December 9, 2015
  5:30 p.m. – 7:30 p.m.
  The Standard Pour
  2900 McKinney Avenue
  Dallas, Texas
  Cost to attend the event is $5.00
  Appetizers will be provided along with a cash bar</p>
  <p>Please register by December 7 at:
  <a href="http://msb.connect.utexas.edu/utlawmbanetworking_dec2015">http://msb.connect.utexas.edu/utlawmbanetworking_dec2015</a>
  </p>\n\nIf you need an accommodation to participate in this event, please contact the event sponsor or the Texas Law Special Events Office at specialevents@law.utexas.edu no later than seven business days prior to the event.
X-ALT-DESC;FMTTYPE=text/html:<p>Dallas Networking Happy Hour
  for alumni of
  The University of Texas School of Law
  and McCombs School of Business MBA Program
  Wednesday, December 9, 2015
  5:30 p.m. – 7:30 p.m.
  The Standard Pour
  2900 McKinney Avenue
  Dallas, Texas
  Cost to attend the event is $5.00
  Appetizers will be provided along with a cash bar</p>
  <p>Please register by December 7 at:
  <a href="http://msb.connect.utexas.edu/utlawmbanetworking_dec2015">http://msb.connect.utexas.edu/utlawmbanetworking_dec2015</a>
  </p><p>If you need an accommodation to participate in this event, please contact the event
                                          event sponsor or the Texas Law Special Events Office at <a href="mailto:specialevents@law.utexas.edu">specialevents@law.utexas.edu</a> no later than seven business days prior to the event.</p>


URL:http://law.utexas.edu/calendar/2015/12/09/21535/
CLASS:PUBLIC
STATUS:CONFIRMED

END:VEVENT
END:VCALENDAR