BEGIN:VCALENDAR
VERSION:2.0
PRODID:-//UNIVERSITY OF TEXAS SCHOOL OF LAW//NONSGML Events Calendar v1.0//EN
X-WR-TIMEZONE:America/Chicago
BEGIN:VTIMEZONE
TZID:US/Central
X-LIC-LOCATION:America/Chicago
BEGIN:DAYLIGHT
TZOFFSETFROM:-0600
TZOFFSETTO:-0500
TZNAME:CDT
DTSTART:19700308T020000
RRULE:FREQ=YEARLY;BYMONTH=3;BYDAY=2SU
END:DAYLIGHT
BEGIN:STANDARD
TZOFFSETFROM:-0500
TZOFFSETTO:-0600
TZNAME:CST
DTSTART:19701101T020000
RRULE:FREQ=YEARLY;BYMONTH=11;BYDAY=1SU
END:STANDARD
END:VTIMEZONE
BEGIN:VEVENT
DTSTART;TZID=US/Central:20160805T083000
DTEND;VALUE=DATE-TIME;TZID=US/Central:20160805T123000

DTSTAMP:20260419T122100Z
CREATED:20160316T152100Z
LAST-MODIFIED:20160804T151700Z
UID:20160805T083000-22003@law.utexas.edu
SUMMARY:Improv for Mediators
DESCRIPTION:<p>This highly interactive workshop will create a safe space in which we will merge mediation and improv perspectives and objectives, and the focus of both disciplines on "getting to yes."  The program is intended to offer fresh, and sometimes unconventional, insights on how we can improve mediation/conflict resolution skills by understanding the basic components and exercises of improv training. Participants will also learn techniques they can teach to parties involved in mediation. 
  </p>\n\nIf you need an accommodation to participate in this event, please contact the event sponsor or the Texas Law Special Events Office at specialevents@law.utexas.edu no later than seven business days prior to the event.
X-ALT-DESC;FMTTYPE=text/html:<p>This highly interactive workshop will create a safe space in which we will merge mediation and improv perspectives and objectives, and the focus of both disciplines on "getting to yes."  The program is intended to offer fresh, and sometimes unconventional, insights on how we can improve mediation/conflict resolution skills by understanding the basic components and exercises of improv training. Participants will also learn techniques they can teach to parties involved in mediation. 
  </p><p>If you need an accommodation to participate in this event, please contact the event
                                          event sponsor or the Texas Law Special Events Office at <a href="mailto:specialevents@law.utexas.edu">specialevents@law.utexas.edu</a> no later than seven business days prior to the event.</p>
CATEGORIES:Workshop / Training Program
LOCATION:TNH 2.111 - Sheffield-Massey Room
URL:http://law.utexas.edu/calendar/2016/08/05/22003/
CLASS:PUBLIC
STATUS:CONFIRMED

END:VEVENT
END:VCALENDAR