BEGIN:VCALENDAR
VERSION:2.0
PRODID:-//UNIVERSITY OF TEXAS SCHOOL OF LAW//NONSGML Events Calendar v1.0//EN
X-WR-TIMEZONE:America/Chicago
BEGIN:VTIMEZONE
TZID:US/Central
X-LIC-LOCATION:America/Chicago
BEGIN:DAYLIGHT
TZOFFSETFROM:-0600
TZOFFSETTO:-0500
TZNAME:CDT
DTSTART:19700308T020000
RRULE:FREQ=YEARLY;BYMONTH=3;BYDAY=2SU
END:DAYLIGHT
BEGIN:STANDARD
TZOFFSETFROM:-0500
TZOFFSETTO:-0600
TZNAME:CST
DTSTART:19701101T020000
RRULE:FREQ=YEARLY;BYMONTH=11;BYDAY=1SU
END:STANDARD
END:VTIMEZONE
BEGIN:VEVENT
DTSTART;TZID=US/Central:20160806T080000
DTEND;VALUE=DATE-TIME;TZID=US/Central:20160806T170000

DTSTAMP:20260419T135300Z
CREATED:20160204T172000Z
LAST-MODIFIED:20160802T142500Z
UID:20160806T080000-21846@law.utexas.edu
SUMMARY:CLEO ASAP and AIE Seminars
DESCRIPTION:<p>The ASAP program curriculum will focus on aspects of the law school application process that are commonly overlooked or undervalued by students when applying to law school. The AIE seminar will expose students to the best practices for: case briefing, legal research &amp; writing, conquering law school exams, and managing time &amp; finances.</p>\n\nIf you need an accommodation to participate in this event, please contact the event sponsor or the Texas Law Special Events Office at specialevents@law.utexas.edu no later than seven business days prior to the event.
X-ALT-DESC;FMTTYPE=text/html:<p>The ASAP program curriculum will focus on aspects of the law school application process that are commonly overlooked or undervalued by students when applying to law school. The AIE seminar will expose students to the best practices for: case briefing, legal research &amp; writing, conquering law school exams, and managing time &amp; finances.</p><p>If you need an accommodation to participate in this event, please contact the event
                                          event sponsor or the Texas Law Special Events Office at <a href="mailto:specialevents@law.utexas.edu">specialevents@law.utexas.edu</a> no later than seven business days prior to the event.</p>

LOCATION:JON 5.206 - Susman Academic Center, Bryan and Michelle Goolsby Conference Suite (5.206 / 5.207)
URL:http://law.utexas.edu/calendar/2016/08/06/21846/
CLASS:PUBLIC
STATUS:CONFIRMED

END:VEVENT
END:VCALENDAR